BEGIN:VCALENDAR
VERSION:2.0
PRODID:-//ChamberMaster//Event Calendar 2.0//EN
METHOD:PUBLISH
X-PUBLISHED-TTL:P3D
REFRESH-INTERVAL:P3D
CALSCALE:GREGORIAN
BEGIN:VEVENT
DTSTART:20150129T140000Z
DTEND:20150129T160000Z
X-MICROSOFT-CDO-ALLDAYEVENT:FALSE
SUMMARY:MOXIE\, Presented by Central Iowa Electronic Cigarettes
DESCRIPTION:MOXIE (Member Owners eXchange Information & Experience) is a group of member business Owners who meet monthly with ActionCoach\, Greg Thompson\, to discuss issues impacting their businesses.  This is exclusive to Business Owners only and is specifically designed for businesses generating up to $100K net revenue annually.\n\nTime: 8-10 am \n\nLocation: RODAN Board Room\, Urbandale Chamber of Commerce (2830 100th Street\, Ste 100)\n\nCost: Included in membership\, but RSVP's are strongly requested.\n\n\n\nThank you to Central Iowa Electronic Cigarettes for sponsoring the MOXIE program through February 2015.
X-ALT-DESC;FMTTYPE=text/html:<p>MOXIE&nbsp\;(Member Owners&nbsp\;eXchange&nbsp\;Information &amp\; Experience) is a group of member business Owners who meet monthly with&nbsp\;ActionCoach\, Greg Thompson\, to discuss issues impacting their businesses.&nbsp\; This is exclusive to Business Owners only and is specifically designed for businesses generating up to $100K&nbsp\;net revenue annually.</p>\n\n<p>Time: 8-10 am&nbsp\;<br />\nLocation:&nbsp\;RODAN&nbsp\;Board Room\,&nbsp\;Urbandale&nbsp\;Chamber of Commerce (2830&nbsp\;100th&nbsp\;Street\,&nbsp\;Ste&nbsp\;100)<br />\nCost: Included in membership\, but RSVP&#39\;s are strongly requested.<br />\n<br />\nThank you to Central Iowa Electronic Cigarettes for sponsoring the MOXIE program through February 2015.</p>\n
LOCATION:RODAN Board Room\, Urbandale Chamber of Commerce (2830 100th St\, Ste 110)
UID:e.1185.3728
SEQUENCE:3
DTSTAMP:20260419T193152Z
URL:http://getaquote-mobile.uniquelyurbandale.com/events/details/moxie-presented-by-central-iowa-electronic-cigarettes-01-29-2015-3728
END:VEVENT

END:VCALENDAR
