BEGIN:VCALENDAR
VERSION:2.0
PRODID:-//ChamberMaster//Event Calendar 2.0//EN
METHOD:PUBLISH
X-PUBLISHED-TTL:P3D
REFRESH-INTERVAL:P3D
CALSCALE:GREGORIAN
BEGIN:VEVENT
DTSTART:20140227T140000Z
DTEND:20140227T160000Z
X-MICROSOFT-CDO-ALLDAYEVENT:FALSE
SUMMARY:MOXIE\, Presented by Baitinger Consulting
DESCRIPTION:New in 2014 - MOXIE is open to all member owners!  MOXIE (Member Owners eXchange Information & Experience) is a group of member business Owners who meet monthly with ActionCoach\, Greg Thompson\, to discuss issues impacting their businesses.  This is exclusive to Business Owners only and is specifically designed for businesses generating up to $100K net revenue annually.\n\nTime: 8-10 am \n\nLocation: RODAN Board Room\, Urbandale Chamber of Commerce (2830 100th Street\, Ste 100)\n\nCost: Included in membership\, but RSVP's are strongly requested.
X-ALT-DESC;FMTTYPE=text/html:<p>New in 2014 - MOXIE is open to all member owners!&nbsp\; MOXIE (Member Owners eXchange Information &amp\; Experience) is a group of member business Owners who meet monthly with ActionCoach\, Greg Thompson\, to discuss issues impacting their businesses.&nbsp\; This is exclusive to Business Owners only and is specifically designed for businesses generating up to $100K&nbsp\;net revenue annually.</p>\n\n<p>Time: 8-10 am&nbsp\;<br />\nLocation: RODAN Board Room\,&nbsp\;Urbandale&nbsp\;Chamber of Commerce (2830&nbsp\;100th&nbsp\;Street\,&nbsp\;Ste&nbsp\;100)<br />\nCost: Included in membership\, but RSVP&#39\;s are strongly requested.</p>\n
LOCATION:RODAN Board Room\, Urbandale Chamber of Commerce (2830 100th Street\, Ste 100)
UID:e.1185.2483
SEQUENCE:3
DTSTAMP:20260419T210652Z
URL:http://getaquote-mobile.uniquelyurbandale.com/events/details/moxie-presented-by-baitinger-consulting-02-27-2014-2483
END:VEVENT

END:VCALENDAR
