BEGIN:VCALENDAR
VERSION:2.0
PRODID:-//ChamberMaster//Event Calendar 2.0//EN
METHOD:PUBLISH
X-PUBLISHED-TTL:P3D
REFRESH-INTERVAL:P3D
CALSCALE:GREGORIAN
BEGIN:VEVENT
DTSTART:20140903T130000Z
DTEND:20140903T150000Z
X-MICROSOFT-CDO-ALLDAYEVENT:FALSE
SUMMARY:MOXIE Plus\, Presented by Preowned Solutions
DESCRIPTION:MOXIE (Member Owners eXchange Information & Experience) Plus is a group of member business Owners/Presidents who meet monthly with ActionCoach\, Greg Thompson\, to discuss issues impacting their businesses.  This is specifically designed and exclusive to Business Owners/Presidents of businesses who generate  a minimum of $100K+ net revenue annually.  For those generating less than an annual $100K net revenue\, please ask about our MOXIE group that meets on the last Thursday of every month.\n\n\n\n"I have made time to attend both MOXIE groups monthly.  The value and insight I have gained from the host "Greg Thompson" and from fellow business owners has been extremely valuable.  Topics covered have ranged from the various departments or categories: Human Resources & Sales\, to Accounting & Legal.   The level of questions and problems have been spot on. I have been able to relate to a lot of these fellow owners\, who through our conversations\; have provided me insight as how to handle various situations\, or things to consider as we grow.  If you have considered attending\, I would highly suggest making time to attend (3) three of these meetings in the next (6) six months. Bring your own questions and judge for yourself.\n\nHiram Houghton   Owner    Launch IT Corp.\n\n \n\nTime: 8-10 am \n\nLocation: RODAN Board Room\, Urbandale Chamber of Commerce\n\nCost: Included in membership\, but RSVP's are requested.
X-ALT-DESC;FMTTYPE=text/html:<p>MOXIE (Member Owners&nbsp\;eXchange&nbsp\;Information &amp\; Experience) Plus is a group of member business Owners/Presidents&nbsp\;who meet monthly with ActionCoach\, Greg Thompson\, to discuss issues impacting their businesses.&nbsp\; <strong>This is specifically designed and exclusive to Business Owners/Presidents of businesses who generate &nbsp\;a minimum of $100K+ net revenue annually.</strong> &nbsp\;<span style="font-family: arial\;">For those generating </span>less than an annual $100K net revenue<span style="font-family: arial\;">\, please ask about our&nbsp\;</span>MOXIE<span style="font-family: arial\;">&nbsp\;group that meets on the last Thursday of every month.<br />\n<br />\n<em>&quot\;</em></span><em>I have made time to attend both MOXIE groups monthly.&nbsp\; The value and insight I have gained from the host &ldquo\;Greg Thompson&rdquo\; and from fellow business owners has been extremely valuable.&nbsp\; Topics covered have ranged from the various departments or categories: Human Resources &amp\; Sales\, to Accounting &amp\; Legal.&nbsp\;&nbsp\; The level of questions and problems have been spot on. I have been able to relate to a lot of these fellow owners\, who through our conversations\; have provided me insight as how to handle various situations\, or things to consider as we grow. &nbsp\;If you have considered attending\, I would highly suggest making time to attend (3) three of these meetings in the next (6) six months. Bring your own questions and judge for yourself.<br />\n<strong>Hiram Houghton &ndash\; Owner&nbsp\;&nbsp\;&nbsp\; Launch IT Corp</strong>.</em><br />\n&nbsp\;</p>\n\n<p>Time: 8-10 am&nbsp\;<br />\nLocation: RODAN Board Room\,&nbsp\;Urbandale&nbsp\;Chamber of Commerce<br />\nCost: Included in membership\, but RSVP&#39\;s are requested.<br />\n&nbsp\;</p>\n
LOCATION:RODAN Board Room\, Urbandale Chamber of Commerce
UID:e.1185.3769
SEQUENCE:3
DTSTAMP:20260419T152539Z
URL:http://getaquote-mobile.uniquelyurbandale.com/events/details/moxie-plus-presented-by-preowned-solutions-09-03-2014-3769
END:VEVENT

END:VCALENDAR
