BEGIN:VCALENDAR
VERSION:2.0
PRODID:-//ChamberMaster//Event Calendar 2.0//EN
METHOD:PUBLISH
X-PUBLISHED-TTL:P3D
REFRESH-INTERVAL:P3D
CALSCALE:GREGORIAN
BEGIN:VEVENT
DTSTART:20150204T140000Z
DTEND:20150204T160000Z
X-MICROSOFT-CDO-ALLDAYEVENT:FALSE
SUMMARY:MOXIE Plus\, Presented by Preowned Solutions
DESCRIPTION:MOXIE (Member Owners eXchange Information & Experience) Plus is a group of member business Owners/Presidents who meet monthly with ActionCoach\, Greg Thompson\, to discuss issues impacting their businesses.  This is specifically designed and exclusive to Business Owners/Presidents of businesses who generate  a minimum of $100K+ net revenue annually.  For those generating less than an annual $100K net revenue\, please ask about our MOXIE group that meets on the last Thursday of every month.\n\n\n\nThis month's featured speaker is Joe Desmond\, Shaul & Desmond PLLC.  Joe will share with you tax tips for businesses.\n\nTime: 8-10 am \n\nLocation: RODAN Board Room\, Urbandale Chamber of Commerce\n\nCost: Included in membership\, but RSVP's are requested.
X-ALT-DESC;FMTTYPE=text/html:<p>MOXIE (Member Owners&nbsp\;eXchange&nbsp\;Information &amp\; Experience) Plus is a group of member business Owners/Presidents&nbsp\;who meet monthly with ActionCoach\, Greg Thompson\, to discuss issues impacting their businesses.&nbsp\; <strong>This is specifically designed and exclusive to Business Owners/Presidents of businesses who generate &nbsp\;a minimum of $100K+ net revenue annually.</strong> &nbsp\;<span style="font-family: arial\;">For those generating </span>less than an annual $100K net revenue<span style="font-family: arial\;">\, please ask about our&nbsp\;</span>MOXIE<span style="font-family: arial\;">&nbsp\;group that meets on the last Thursday of every month.</span><br />\n<br />\n<span style="line-height: 20.7999992370605px\;">This month&#39\;s featured speaker is Joe Desmond\,&nbsp\;</span>Shaul<span style="line-height: 20.7999992370605px\;">&nbsp\;&amp\; Desmond&nbsp\;</span>PLLC<span style="line-height: 20.7999992370605px\;">. &nbsp\;Joe will share with you tax tips for businesses.</span></p>\n\n<p>Time: 8-10 am&nbsp\;<br />\nLocation: RODAN Board Room\,&nbsp\;Urbandale&nbsp\;Chamber of Commerce<br />\nCost: Included in membership\, but RSVP&#39\;s are requested.<br />\n&nbsp\;</p>\n
LOCATION:RODAN Board Room\, Urbandale Chamber of Commerce
UID:e.1185.3774
SEQUENCE:3
DTSTAMP:20260419T210311Z
URL:http://getaquote-mobile.uniquelyurbandale.com/events/details/moxie-plus-presented-by-preowned-solutions-02-04-2015-3774
END:VEVENT

END:VCALENDAR
