BEGIN:VCALENDAR
VERSION:2.0
PRODID:-//ChamberMaster//Event Calendar 2.0//EN
METHOD:PUBLISH
X-PUBLISHED-TTL:P3D
REFRESH-INTERVAL:P3D
CALSCALE:GREGORIAN
BEGIN:VEVENT
DTSTART:20150701T130000Z
DTEND:20150701T150000Z
X-MICROSOFT-CDO-ALLDAYEVENT:FALSE
SUMMARY:MOXIE Plus\, Presented by Clarity Accounting Services
DESCRIPTION:MOXIE (Member Owners eXchange Information & Experience) Plus is a group of member business Owners/Presidents who meet monthly with Greg Thompson\, ActionCoach\, to discuss issues impacting their businesses.  This is specifically designed and exclusive to Business Owners/Presidents of businesses who generate  a minimum of $100K+ net revenue annually.  For those generating less than an annual $100K net revenue\, please ask about our MOXIE group that meets on the last Thursday of every month.\n\n\n\nThis month features Christina Moffatt with the Small Business Development Corporation (SBDC) and how they assist businesses grow.  Many of their programs are at no cost to business owners!  Come find out more!\n\nTime: 8-10 am \n\nLocation: RODAN Board Room\, Urbandale Chamber of Commerce\n\nCost: Included in membership\, but RSVP's are requested.\n\n\n\nThis month's topic is Succession Planning featuring Don Brush.
X-ALT-DESC;FMTTYPE=text/html:<p>MOXIE (Member Owners&nbsp\;eXchange&nbsp\;Information &amp\; Experience) Plus is a group of member business Owners/Presidents&nbsp\;who meet monthly with Greg Thompson\, ActionCoach\, to discuss issues impacting their businesses.&nbsp\; <strong>This is specifically designed and exclusive to Business Owners/Presidents of businesses who generate &nbsp\;a minimum of $100K+ net revenue annually.</strong> &nbsp\;<span style="font-family: arial\;">For those generating </span>less than an annual $100K net revenue<span style="font-family: arial\;">\, please ask about our&nbsp\;</span>MOXIE<span style="font-family: arial\;">&nbsp\;group that meets on the last Thursday of every month.</span><br />\n<br />\n<strong style="line-height: 20.8px\;">This month features Christina&nbsp\;Moffatt&nbsp\;with the Small Business Development Corporation (SBDC) and how they assist businesses grow. &nbsp\;Many of their programs are at no cost to business owners! &nbsp\;Come find out more!</strong></p>\n\n<p>Time: 8-10 am&nbsp\;<br />\nLocation: RODAN Board Room\,&nbsp\;Urbandale&nbsp\;Chamber of Commerce<br />\nCost: Included in membership\, but RSVP&#39\;s are requested.<br />\n<br />\n<strong>This month&#39\;s topic is Succession Planning featuring Don Brush.</strong><br />\n&nbsp\;</p>\n
LOCATION:RODAN Board Room\, Urbandale Chamber of Commerce
UID:e.1185.4100
SEQUENCE:3
DTSTAMP:20260420T041606Z
URL:http://getaquote-mobile.uniquelyurbandale.com/events/details/moxie-plus-presented-by-clarity-accounting-services-07-01-2015-4100
END:VEVENT

END:VCALENDAR
