BEGIN:VCALENDAR
VERSION:2.0
PRODID:-//ChamberMaster//Event Calendar 2.0//EN
METHOD:PUBLISH
X-PUBLISHED-TTL:P3D
REFRESH-INTERVAL:P3D
CALSCALE:GREGORIAN
BEGIN:VEVENT
DTSTART:20150603T130000Z
DTEND:20150603T150000Z
X-MICROSOFT-CDO-ALLDAYEVENT:FALSE
SUMMARY:MOXIE Plus\, Presented by Clarity Accounting Services
DESCRIPTION:MOXIE (Member Owners eXchange Information & Experience) Plus is a group of member business Owners/Presidents who meet monthly with Greg Thompson\, ActionCoach\, to discuss issues impacting their businesses.  This is specifically designed and exclusive to Business Owners/Presidents of businesses who generate  a minimum of $100K+ net revenue annually.  For those generating less than an annual $100K net revenue\, please ask about our MOXIE group that meets on the last Thursday of every month.\n\nTime: 8-10 am \n\nLocation: RODAN Board Room\, Urbandale Chamber of Commerce\n\nCost: Included in membership\, but RSVP's are requested.\n\n\n\nThis month's topic is Intellectual Property featuring Alex Christian with the Davis Brown Law Firm.  Learn about Federal Trademarks\, State Trademarks and which one to apply for to protect your company's brand.
X-ALT-DESC;FMTTYPE=text/html:<p>MOXIE (Member Owners&nbsp\;eXchange&nbsp\;Information &amp\; Experience) Plus is a group of member business Owners/Presidents&nbsp\;who meet monthly with Greg Thompson\, ActionCoach\, to discuss issues impacting their businesses.&nbsp\; <strong>This is specifically designed and exclusive to Business Owners/Presidents of businesses who generate &nbsp\;a minimum of $100K+ net revenue annually.</strong> &nbsp\;<span style="font-family: arial\;">For those generating </span>less than an annual $100K net revenue<span style="font-family: arial\;">\, please ask about our&nbsp\;</span>MOXIE<span style="font-family: arial\;">&nbsp\;group that meets on the last Thursday of every month.</span></p>\n\n<p>Time: 8-10 am&nbsp\;<br />\nLocation: RODAN Board Room\,&nbsp\;Urbandale&nbsp\;Chamber of Commerce<br />\nCost: Included in membership\, but RSVP&#39\;s are requested.<br />\n<br />\n<strong style="font-family: Arial\; font-size: 12px\; line-height: 19.2000007629395px\;">This month&#39\;s topic is&nbsp\;Intellectual&nbsp\;Property featuring Alex Christian with the Davis Brown Law Firm. &nbsp\;Learn about Federal Trademarks\, State Trademarks and which one to apply for to protect your company&#39\;s brand. &nbsp\;</strong></p>\n
LOCATION:RODAN Board Room\, Urbandale Chamber of Commerce
UID:e.1185.4099
SEQUENCE:3
DTSTAMP:20260420T024358Z
URL:http://getaquote-mobile.uniquelyurbandale.com/events/details/moxie-plus-presented-by-clarity-accounting-services-06-03-2015-4099
END:VEVENT

END:VCALENDAR
