BEGIN:VCALENDAR
VERSION:2.0
PRODID:-//ChamberMaster//Event Calendar 2.0//EN
METHOD:PUBLISH
X-PUBLISHED-TTL:P3D
REFRESH-INTERVAL:P3D
CALSCALE:GREGORIAN
BEGIN:VEVENT
DTSTART:20211006T130000Z
DTEND:20211006T150000Z
X-MICROSOFT-CDO-ALLDAYEVENT:FALSE
SUMMARY:MOXIE Business Owner Roundtable
DESCRIPTION:MOXIE (Member Owners eXchange Information & Experience) is a group of member business Owners/Presidents who meet monthly with Greg Thompson\, ActionCoach\, to discuss issues impacting their businesses. All member Business Owners/Presidents are invited to participate.  Everyone must sign a confidentiality clause.\n\n\n\nThis month we will be featuring James Bierly\, owner of Secure Point Solutions to discuss Cyber Security.  He will explain the risks and solutions available without creating fear. \n\n\n\nJames Bierly Bio:\n\nWith 13 years in the Navy operating on both surface ships and submarines as a Sonar Analyst\, I have had an unusual transition from military to civilian\; from physical security to selling cars\, I ultimately found opportunities to learn Information Technology while working overseas. I began a series of positions with increasing responsibility working with the state lottery and technology giants like Microsoft and Hewlett-Packard. I have spent the last 6 years supporting small businesses as part of a managed service provider and now running my own security company. I hold certifications from CompTIA and (ISC)2 in areas of cybersecurity. I am married to an amazing woman and together raising 4 children and 3 dogs for the imminent zombie apocalypse.
X-ALT-DESC;FMTTYPE=text/html:<span class="scayt-misspell-word" style="font-family: tahoma\; font-size: 12px\;">MOXIE</span><span class="apple-converted-space" style="font-family: tahoma\; font-size: 12px\;">&nbsp\;</span><span style="font-family: tahoma\; font-size: 12px\;">(Member Owners&nbsp\;</span><span class="scayt-misspell-word" style="font-family: tahoma\; font-size: 12px\;">eXchange</span><span style="font-family: tahoma\; font-size: 12px\;">&nbsp\;Information &amp\; Experience) is a group of member business Owners/Presidents&nbsp\;who meet monthly with Greg Thompson\,</span><span class="apple-converted-space" style="font-family: tahoma\; font-size: 12px\;">&nbsp\;</span><span class="scayt-misspell-word" style="font-family: tahoma\; font-size: 12px\;">ActionCoach</span><span style="font-family: tahoma\; font-size: 12px\;">\, to discuss issues impacting their businesses.&nbsp\;</span><span class="apple-converted-space" style="font-family: tahoma\; font-size: 12px\;">All member Business Owners/Presidents are invited to participate.&nbsp\; Everyone must sign a confidentiality clause.<br />\n<br />\nThis month we will be featuring James Bierly\, owner of Secure Point Solutions to discuss Cyber Security.&nbsp\; He will explain the risks and solutions available without creating fear.&nbsp\;</span><br />\n<br />\n<strong>James Bierly Bio:</strong><br />\nWith 13 years in the Navy operating on both surface ships and submarines as a Sonar Analyst\, I have had an unusual transition from military to civilian\; from physical security to selling cars\, I ultimately found opportunities to learn Information Technology while working overseas. I began a series of positions with increasing responsibility working with the state lottery and technology giants like Microsoft and Hewlett-Packard. I have spent the last 6 years supporting small businesses as part of a managed service provider and now running my own security company. I hold certifications from CompTIA and (ISC)2 in areas of cybersecurity. I am married to an amazing woman and together raising 4 children and 3 dogs for the imminent zombie apocalypse.
LOCATION:Urbandale Chamber of Commerce | RODAN Board Room | 2830 100th St.\, Suite 110\, Urbandale\, IA 50322 Attendees can attend the event in-person at the event location. In-person registration will be limited to ensure social distancing. Participants can attend virtually via Zoom event as well.
UID:e.1185.11134
SEQUENCE:3
DTSTAMP:20260424T200431Z
URL:http://getaquote-mobile.uniquelyurbandale.com/events/details/moxie-business-owner-roundtable-11134
END:VEVENT

END:VCALENDAR
