BEGIN:VCALENDAR
VERSION:2.0
PRODID:-//ChamberMaster//Event Calendar 2.0//EN
METHOD:PUBLISH
X-PUBLISHED-TTL:P3D
REFRESH-INTERVAL:P3D
CALSCALE:GREGORIAN
BEGIN:VEVENT
DTSTART:20190403T130000Z
DTEND:20190403T150000Z
X-MICROSOFT-CDO-ALLDAYEVENT:FALSE
SUMMARY:MOXIE
DESCRIPTION:MOXIE (Member Owners eXchange Information & Experience) is a group of member business Owners who meet monthly with ActionCoach\, Greg Thompson\, to discuss issues impacting their businesses.  This is exclusive to Business Owners only and is specifically designed for businesses generating up to $100K net revenue annually.\n\nThis month's speaker is Rob Taylor\, President of Taylor Management Systems\, Inc. a Professional EOS Implementer?.  EOS®\, the Entrepreneurial Operating System®\, is a complete\, proven system with simple practical tools that strengthen the 6 key components of a business enabling entrepreneurs to get what they want from their businesses. By mastering this simple way of operating\, leadership teams of growth-oriented companies systematically become the company they envision.\n\n\n\nIn 2017\, the Chamber invited Gino Wickman to speak at the Central Iowa Business Conference.  Since then\, a number of members continue to ask about EOS and implementing it into their business.  Rob will be giving an overview and some EOS tips to help your business.  \n\n \n\nTime: 8-10 am \n\nLocation: RODAN Board Room\, Urbandale Chamber of Commerce (2830 100th Street\, Ste 100)\n\nCost: Included in membership\, but RSVP's are strongly requested.
X-ALT-DESC;FMTTYPE=text/html:<p>MOXIE&nbsp\;(Member Owners&nbsp\;eXchange&nbsp\;Information &amp\; Experience) is a group of member business Owners who meet monthly with&nbsp\;ActionCoach\, Greg Thompson\, to discuss issues impacting their businesses.&nbsp\; This is exclusive to Business Owners only and is specifically designed for businesses generating up to $100K&nbsp\;net revenue annually.<br>\n<span style="background:white\;"><span style="color:#333333\;"><span style="font-family:arial\,sans-serif\;"><span style="font-size:10.0pt\;">This month's speaker is Rob Taylor\, President of Taylor Management Systems\, Inc. a Professional EOS Implementer</span></span></span></span><span style="background:white\;"><span style="font-family:arial\,sans-serif\;"><span style="font-size:10.0pt\;">?<span style="color:#333333\;">.&nbsp\;&nbsp\;<strong><span style="font-family:arial\,sans-serif\;">EOS®\, the Entrepreneurial Operating System</span></strong></span><strong><span style="font-family:arial\,sans-serif\;">®</span></strong><span style="color:#333333\;">\, is a complete</span>\, proven system with simple practical tools that strengthen the 6 key components of a business enabling <span style="color:#333333\;">entrepreneurs </span>to <span style="color:#333333\;">get what they want from their businesses. By mastering this simple way of operating\, leadership teams of growth-oriented companies systematically </span>become the company they envision<span style="color:#333333\;">.</span></span></span></span><br>\n<br>\n<span style="color:#333333\;"><span style="font-family:arial\,sans-serif\;"><span style="font-size:10.0pt\;"><span style="background:white\;">In 2017\, the Chamber invited Gino Wickman to speak at the Central Iowa Business Conference.&nbsp\; Since then\, a number of members continue to ask about EOS and implementing it into their business.&nbsp\; Rob will be giving an overview and some EOS tips to help your business.&nbsp\;&nbsp\;</span></span></span></span><br>\n&nbsp\;</p>\n\n<p>Time: 8-10 am&nbsp\;<br>\nLocation:&nbsp\;RODAN&nbsp\;Board Room\,&nbsp\;Urbandale&nbsp\;Chamber of Commerce (2830&nbsp\;100th&nbsp\;Street\,&nbsp\;Ste&nbsp\;100)<br>\nCost: Included in membership\, but RSVP's are strongly requested.</p>\n
LOCATION:RODAN Board Room\, Urbandale Chamber of Commerce (2830 100th St\, Ste 110)
UID:e.1185.8456
SEQUENCE:3
DTSTAMP:20260422T215813Z
URL:http://getaquote-mobile.uniquelyurbandale.com/events/details/moxie-8456
END:VEVENT

END:VCALENDAR
