BEGIN:VCALENDAR
VERSION:2.0
PRODID:-//ChamberMaster//Event Calendar 2.0//EN
METHOD:PUBLISH
X-PUBLISHED-TTL:P3D
REFRESH-INTERVAL:P3D
CALSCALE:GREGORIAN
BEGIN:VEVENT
DTSTART:20170222T233000Z
DTEND:20170223T003000Z
X-MICROSOFT-CDO-ALLDAYEVENT:FALSE
SUMMARY:Mosaic at Home Information Session
DESCRIPTION:Mosaic at Home is a shared living service for adults with intellectual disabiliites. Being a Mosaic at Home provider is a unique career opportunity through which you work from your own home while caring for someone with a disability. Mosaic in Central Iowa is hosting a free informational session for the public to learn more about the Mosaic at Home program. Information will be shared on the qualifications of potential host home providers\, daily job requirements\, rate of pay\, etc. Please RSVP In advance or contact us for additional information.
X-ALT-DESC;FMTTYPE=text/html:Mosaic at Home is a shared living service for adults with intellectual disabiliites. Being a Mosaic at Home provider is a unique career opportunity&nbsp\;through which you work from your own home while caring for someone with a disability. Mosaic in Central Iowa is hosting a free informational session for the public to learn more about the Mosaic at Home program. Information will be shared on the qualifications of potential host home providers\, daily job requirements\, rate of pay\, etc. Please RSVP In advance or contact us for additional information.
LOCATION:Mosaic in Central Iowa 11141 Aurora Ave. Urbandale\, IA 50322
UID:e.1185.5132
SEQUENCE:3
DTSTAMP:20260421T081127Z
URL:http://getaquote-mobile.uniquelyurbandale.com/events/details/mosaic-at-home-information-session-5132
END:VEVENT

END:VCALENDAR
