BEGIN:VCALENDAR
VERSION:2.0
PRODID:-//ChamberMaster//Event Calendar 2.0//EN
METHOD:PUBLISH
X-PUBLISHED-TTL:P3D
REFRESH-INTERVAL:P3D
CALSCALE:GREGORIAN
BEGIN:VEVENT
DTSTART:20170427T230000Z
DTEND:20170428T000000Z
X-MICROSOFT-CDO-ALLDAYEVENT:FALSE
SUMMARY:Mosaic at Home Info Session
DESCRIPTION:Interested in becoming a Mosaic at Home host home provider\, or just want to learn more about the Mosaic at Home program? You're invited to attend this free information session about Mosaic at Home. Come with any questions you have about host homes! Please RSVP in advance to Jen Zajicek so we have enough materials: jen.zajicek@mosaicinfo.org or 515.868.0603.
X-ALT-DESC;FMTTYPE=text/html:Interested in becoming a Mosaic at Home host home provider\, or just want to learn more about the Mosaic at Home program? You&#39\;re invited to attend this free information session about&nbsp\;Mosaic at Home. Come with any questions you have about host homes!&nbsp\;Please RSVP in advance&nbsp\;to Jen Zajicek so we have enough materials: <a class="spamspan" href="mailto:jen.zajicek@mosaicinfo.org">jen.zajicek@mosaicinfo.org</a> or 515.868.0603.
LOCATION:Mosaic in Central Iowa 11141 Aurora Ave. Urbandale\, IA 50322
UID:e.1185.5140
SEQUENCE:3
DTSTAMP:20260421T103455Z
URL:http://getaquote-mobile.uniquelyurbandale.com/events/details/mosaic-at-home-info-session-04-27-2017-5140
END:VEVENT

END:VCALENDAR
