BEGIN:VCALENDAR
VERSION:2.0
PRODID:-//ChamberMaster//Event Calendar 2.0//EN
METHOD:PUBLISH
X-PUBLISHED-TTL:P3D
REFRESH-INTERVAL:P3D
CALSCALE:GREGORIAN
BEGIN:VEVENT
DTSTART:20170404T000000Z
DTEND:20170404T010000Z
X-MICROSOFT-CDO-ALLDAYEVENT:FALSE
SUMMARY:Mosaic at Home Info Session
DESCRIPTION:Interested in becoming a Mosaic at Home host home provider\, or just want to learn more about the Mosaic at Home program? You're invited to attend this free information session about Mosaic at Home. Come with any questions you have about host homes! Please RSVP in advance to Jen Zajicek so we have enough materials: jen.zajicek@mosaicinfo.org or 515.868.0603.
X-ALT-DESC;FMTTYPE=text/html:Interested in becoming a Mosaic at Home host home provider\, or just want to learn more about the Mosaic at Home program? You&#39\;re invited to attend this free information session about&nbsp\;Mosaic at Home. Come with any questions you have about host homes!&nbsp\;Please RSVP in advance&nbsp\;to Jen Zajicek so we have enough materials: <a class="spamspan" href="mailto:jen.zajicek@mosaicinfo.org">jen.zajicek@mosaicinfo.org</a> or 515.868.0603.
LOCATION:Valley Community Center 4444 Fuller Rd. West Des Moines\, IA
UID:e.1185.5156
SEQUENCE:3
DTSTAMP:20260421T120148Z
URL:http://getaquote-mobile.uniquelyurbandale.com/events/details/mosaic-at-home-info-session-04-03-2017-5156
END:VEVENT

END:VCALENDAR
