BEGIN:VCALENDAR
VERSION:2.0
PRODID:-//ChamberMaster//Event Calendar 2.0//EN
METHOD:PUBLISH
X-PUBLISHED-TTL:P3D
REFRESH-INTERVAL:P3D
CALSCALE:GREGORIAN
BEGIN:VEVENT
DTSTART:20140213T133000Z
DTEND:20140213T143000Z
X-MICROSOFT-CDO-ALLDAYEVENT:FALSE
SUMMARY:Morning Mingle Mixer\, Presented by Marva McCarty\, Realtor
DESCRIPTION:A great way to mingle with Chamber members!  Strategically connect with attendees at this morning event from 7:30 a.m.-8:30 a.m.  At 8 a.m. a whistle will blow and everyone is to connect with someone they don't know.  Both parties make introductions for 2 minutes before the whistle will blow again.  The same format will repeat five times. \n\n	Sponsor/Host: Fusion Boutique (10201 University Avenue Suite A13\, Clive)\n\n	\n\n	Time: 7:30-8:30 AM\n\n	Cost:  Included in your membership\, but RSVP's are requested to accommodate for food and beverages
X-ALT-DESC;FMTTYPE=text/html:<p>\n	A great way to mingle with Chamber members!&nbsp\; Strategically connect with attendees at this morning event from 7:30 a.m.-8:30 a.m.&nbsp\; At 8 a.m. a whistle will blow and everyone is to connect with someone they don&rsquo\;t know.&nbsp\; Both parties make introductions for 2 minutes before the whistle will blow again.&nbsp\; The same format will repeat five times.&nbsp\;</p>\n<p>\n	Sponsor/Host: Fusion Boutique (10201 University Avenue Suite A13\, Clive)<br />\n	<br />\n	Time: 7:30-8:30 AM<br />\n	Cost:&nbsp\; Included in your membership\, but RSVP&rsquo\;s are requested to accommodate for food and beverages</p>\n
LOCATION:Fusion Boutique (10201 University Avenue Suite A13\, Clive)
UID:e.1185.2324
SEQUENCE:3
DTSTAMP:20260419T211442Z
URL:http://getaquote-mobile.uniquelyurbandale.com/events/details/morning-mingle-mixer-presented-by-marva-mccarty-realtor-02-13-2014-2324
END:VEVENT

END:VCALENDAR
