BEGIN:VCALENDAR
VERSION:2.0
PRODID:-//ChamberMaster//Event Calendar 2.0//EN
METHOD:PUBLISH
X-PUBLISHED-TTL:P3D
REFRESH-INTERVAL:P3D
CALSCALE:GREGORIAN
BEGIN:VEVENT
DTSTART:20150212T133000Z
DTEND:20150212T143000Z
X-MICROSOFT-CDO-ALLDAYEVENT:FALSE
SUMMARY:Morning Mingle Mixer\, Presented by Marva McCarty\, Realtor
DESCRIPTION:A great way to mingle with Chamber members!  Strategically connect with attendees at this morning event from 7:30 a.m.-8:30 a.m.  At 8 a.m. a whistle will blow and everyone is to connect with someone they don?t know.  Both parties make introductions for 2 minutes before the whistle will blow again.  The same format will repeat five times. \n\nSponsor/Host: Fusion Boutique (10201 University Avenue Suite A13\, Clive)\n\n\n\nTime: 7:30-8:30 AM\n\nCost:  Included in your membership\, but RSVP?s are requested to accommodate for food and beverages
X-ALT-DESC;FMTTYPE=text/html:<p>A great way to mingle with Chamber members!&nbsp\; Strategically connect with attendees at this morning event from 7:30 a.m.-8:30 a.m.&nbsp\; At 8 a.m. a whistle will blow and everyone is to connect with someone they don?t know.&nbsp\; Both parties make introductions for 2 minutes before the whistle will blow again.&nbsp\; The same format will repeat five times.&nbsp\;</p>\n\n<p>Sponsor/Host: Fusion Boutique (10201 University Avenue Suite A13\, Clive)<br />\n<br />\nTime: 7:30-8:30 AM<br />\nCost:&nbsp\; Included in your membership\, but RSVP?s are requested to accommodate for food and beverages</p>\n
LOCATION:Fusion Boutique (10201 University Avenue Suite A13\, Clive)
UID:e.1185.3889
SEQUENCE:3
DTSTAMP:20260419T222315Z
URL:http://getaquote-mobile.uniquelyurbandale.com/events/details/morning-mingle-mixer-presented-by-marva-mccarty-realtor-02-12-2015-3889
END:VEVENT

END:VCALENDAR
