BEGIN:VCALENDAR
VERSION:2.0
PRODID:-//ChamberMaster//Event Calendar 2.0//EN
METHOD:PUBLISH
X-PUBLISHED-TTL:P3D
REFRESH-INTERVAL:P3D
CALSCALE:GREGORIAN
BEGIN:VEVENT
DTSTART:20160824T123000Z
DTEND:20160824T133000Z
X-MICROSOFT-CDO-ALLDAYEVENT:FALSE
SUMMARY:More Than a Store
DESCRIPTION:Building Bright Futures and Strong Communities See how Goodwill's Career Connection Center is working with employers and individuals for career and financial success. Explore programs offered in partnership with DMACC. Complimentary breakfast served
X-ALT-DESC;FMTTYPE=text/html:Building Bright Futures and Strong Communities See how Goodwill&#39\;s Career Connection Center is working with employers and individuals for career and financial success. Explore programs offered in partnership with DMACC. Complimentary breakfast served
LOCATION:Goodwill of Central Iowa - Headquarters 5355 NW 86th Street Johnston
UID:e.1185.4827
SEQUENCE:3
DTSTAMP:20260420T225746Z
URL:http://getaquote-mobile.uniquelyurbandale.com/events/details/more-than-a-store-08-24-2016-4827
END:VEVENT

END:VCALENDAR
