BEGIN:VCALENDAR
VERSION:2.0
PRODID:-//ChamberMaster//Event Calendar 2.0//EN
METHOD:PUBLISH
X-PUBLISHED-TTL:P3D
REFRESH-INTERVAL:P3D
CALSCALE:GREGORIAN
BEGIN:VEVENT
DTSTART:20160727T123000Z
DTEND:20160727T133000Z
X-MICROSOFT-CDO-ALLDAYEVENT:FALSE
SUMMARY:More Than a Store
DESCRIPTION:Developing Skills for a Competitive Workforce - Learn how Goodwill's Food Service\, Janitorial\, Retail\, Contract Work\, and Project Search training build futures and benefits the community. Complimentary breakfast served. Part 2 of a 3 part series. (Aug. 24)
X-ALT-DESC;FMTTYPE=text/html:Developing Skills for a Competitive Workforce - Learn how Goodwill&#39\;s Food Service\, Janitorial\, Retail\, Contract Work\, and Project Search training build futures and benefits the community. Complimentary breakfast served. Part 2 of a 3 part series. (Aug. 24)
LOCATION:Goodwill of Central Iowa - Headquarters 5355 NW 86th Street Johnston
UID:e.1185.4826
SEQUENCE:3
DTSTAMP:20260420T212249Z
URL:http://getaquote-mobile.uniquelyurbandale.com/events/details/more-than-a-store-07-27-2016-4826
END:VEVENT

END:VCALENDAR
