BEGIN:VCALENDAR
VERSION:2.0
PRODID:-//ChamberMaster//Event Calendar 2.0//EN
METHOD:PUBLISH
X-PUBLISHED-TTL:P3D
REFRESH-INTERVAL:P3D
CALSCALE:GREGORIAN
BEGIN:VEVENT
DTSTART:20160629T123000Z
DTEND:20160629T133000Z
X-MICROSOFT-CDO-ALLDAYEVENT:FALSE
SUMMARY:More Than a Store
DESCRIPTION:Creating a Diverse Workforce - Gain insight into creating a more inclusive and diverse workforce. Learn how Goodwill can help connect you with qualified employees. Complimentary breakfast. Part one of a three part series (July 27 and Aug. 24).
X-ALT-DESC;FMTTYPE=text/html:Creating a Diverse Workforce - Gain insight into creating a more inclusive and diverse workforce. Learn how Goodwill can help connect you with qualified employees. Complimentary breakfast. Part one of a three part series (July 27 and Aug. 24).
LOCATION:Goodwill of Central Iowa - Headquarters 5355 NW 86th Street Johnston
UID:e.1185.4825
SEQUENCE:3
DTSTAMP:20260420T212249Z
URL:http://getaquote-mobile.uniquelyurbandale.com/events/details/more-than-a-store-06-29-2016-4825
END:VEVENT

END:VCALENDAR
