BEGIN:VCALENDAR
VERSION:2.0
PRODID:-//ChamberMaster//Event Calendar 2.0//EN
METHOD:PUBLISH
X-PUBLISHED-TTL:P3D
REFRESH-INTERVAL:P3D
CALSCALE:GREGORIAN
BEGIN:VEVENT
DTSTART:20160926T203000Z
DTEND:20160926T230000Z
X-MICROSOFT-CDO-ALLDAYEVENT:FALSE
SUMMARY:Monday 9/26 Event - 5th Annual Senior Fine Arts Exhibit & Sale - Admission Free!
DESCRIPTION:Monday 9/26 Event - 5th Annual Senior Fine Arts Exhibit & Sale - Admission Free! Please come to the Urbandale Senior Recreation Center this coming Monday 3:30pm to 6:00pm for a relaxing afternoon of art and community. Seniors artists from around the metro will be displaying their work in a variety of mediums\, including pencil\, acrylic\, watercolor\, mixed media and pen and ink. Delicious baked and savory goods and high tea will be served\, sponsored by the Urbandale Public Art Committee. No charge! In addition to viewing great art\, this is an excellent time to learn about all the art and craft activities and classes\, and see demonstrations\, available through Senior Center. Looking forward to seeing you this next Monday!
X-ALT-DESC;FMTTYPE=text/html:Monday 9/26 Event - 5th Annual Senior Fine Arts Exhibit &amp\; Sale - Admission Free! Please come to the Urbandale Senior Recreation Center this coming Monday 3:30pm to 6:00pm for a relaxing afternoon of art and community. Seniors artists from around the metro will be displaying their work in a variety of mediums\, including pencil\, acrylic\, watercolor\, mixed media and pen and ink. Delicious baked and savory goods and high tea will be served\, sponsored by the Urbandale Public Art Committee. No charge! In addition to viewing great art\, this is an excellent time to learn about all the art and craft activities and classes\, and see demonstrations\, available through Senior Center. Looking forward to seeing you this next Monday!
LOCATION:7305 Aurora Avenue Urbandale\, IA 50322
UID:e.1185.4912
SEQUENCE:3
DTSTAMP:20260421T003724Z
URL:http://getaquote-mobile.uniquelyurbandale.com/events/details/monday-9-26-event-5th-annual-senior-fine-arts-exhibit-sale-admission-free-4912
END:VEVENT

END:VCALENDAR
