BEGIN:VCALENDAR
VERSION:2.0
PRODID:-//ChamberMaster//Event Calendar 2.0//EN
METHOD:PUBLISH
X-PUBLISHED-TTL:P3D
REFRESH-INTERVAL:P3D
CALSCALE:GREGORIAN
BEGIN:VEVENT
DTSTART:20150310T220000Z
DTEND:20150311T000000Z
X-MICROSOFT-CDO-ALLDAYEVENT:FALSE
SUMMARY:Mixer & A Movie\, presented by the Urbandale Chamber\, Center Sphere and BNI
DESCRIPTION:Connect with members of the Urbandale Chamber of Commerce\, Center Sphere and BNI at this joint event between the three organizations!  This event is designed for members of these three organizations to mix and mingle to expand networks before catching a flick at Flix!  Food and beverages are available for purchase.  (Flix is offering $2 beers of their six signature brews.) Movie tickets are available for purchase in advance through Flix or the evening of for $9.75. Participation in the mixer is free!  Reservations\, however are requested so Flix can accommodate the group.
X-ALT-DESC;FMTTYPE=text/html:Connect with members of the Urbandale Chamber of Commerce\, Center&nbsp\;Sphere and BNI at this joint event between the three organizations! &nbsp\;This event is designed for members of these three organizations to mix and mingle to expand networks before catching a flick at Flix! &nbsp\;Food and beverages are available for purchase. &nbsp\;(Flix is offering $2 beers of their six signature brews.) Movie tickets are available for purchase in advance through Flix or the evening of for $9.75. Participation in the mixer is free! &nbsp\;Reservations\, however are requested so Flix can accommodate the group.&nbsp\;&nbsp\;&nbsp\;
LOCATION:Flix Brewhouse Merle Hay Mall 3800 Merle Hay Rd.\, Des Moines
UID:e.1185.4176
SEQUENCE:3
DTSTAMP:20260419T222544Z
URL:http://getaquote-mobile.uniquelyurbandale.com/events/details/mixer-a-movie-presented-by-the-urbandale-chamber-center-sphere-and-bni-03-10-2015-4176
END:VEVENT

END:VCALENDAR
