BEGIN:VCALENDAR
VERSION:2.0
PRODID:-//ChamberMaster//Event Calendar 2.0//EN
METHOD:PUBLISH
X-PUBLISHED-TTL:P3D
REFRESH-INTERVAL:P3D
CALSCALE:GREGORIAN
BEGIN:VEVENT
DTSTART:20160917T000000Z
DTEND:20160918T200000Z
X-MICROSOFT-CDO-ALLDAYEVENT:FALSE
SUMMARY:Military Softball Draft Tournament
DESCRIPTION:Cover My 6\, a local non-profit\, is hosting the 4th annual Military Softball Draft Tournament fundraiser the weekend of Sept. 16   18. The tournament features the Louisville Slugger Warriors\, a national slow pitch softball team made up of U.S. Military Veterans and Active Duty players who have suffered a service-connected amputation. Prepare to be inspired. Each amputee is drafted to a team\; and then their entire team will play in a featured game Saturday night that will give you a whole new respect for our nation's heroes. Come help us support our troops\, past and present.
X-ALT-DESC;FMTTYPE=text/html:Cover My 6\, a local non-profit\, is hosting the 4th annual Military Softball Draft Tournament fundraiser the weekend of Sept. 16 &ndash\; 18. The tournament features the Louisville Slugger Warriors\, a national slow pitch softball team made up of U.S. Military Veterans and Active Duty players who have suffered a service-connected amputation. Prepare to be inspired. Each amputee is drafted to a team\; and then their entire team will play in a featured game Saturday night that will give you a whole new respect for our nation&rsquo\;s heroes. Come help us support our troops\, past and present.
LOCATION:Walker Johnston Softball Complex
UID:e.1185.4867
SEQUENCE:3
DTSTAMP:20260421T003550Z
URL:http://getaquote-mobile.uniquelyurbandale.com/events/details/military-softball-draft-tournament-09-16-2016-4867
END:VEVENT

END:VCALENDAR
