BEGIN:VCALENDAR
VERSION:2.0
PRODID:-//ChamberMaster//Event Calendar 2.0//EN
METHOD:PUBLISH
X-PUBLISHED-TTL:P3D
REFRESH-INTERVAL:P3D
CALSCALE:GREGORIAN
BEGIN:VEVENT
DTSTART:20140219T173000Z
DTEND:20140219T190000Z
X-MICROSOFT-CDO-ALLDAYEVENT:FALSE
SUMMARY:Membership Luncheon\, Presented by Stanley Steemer
DESCRIPTION:Every month members of the Urbandale Chamber come together to network\, enjoy lunch and listen to a speaker to learn about happenings in Urbandale and around the Greater Des Moines Area.\n\n	Speaker: Rita Grimm\, COO\, IA Economic Development Authority\n\n	Topic: Happenings in 2014 and projections on what's to come\n\n	\n\n	Location: Embassy Club West (520 Market Street\, West Des Moines)\n\n	Time:  11:30-1 pm\n\n	\n\n	Cost:  $20/members $30/nonmembers\n\n	Thank you to this month's sponsors: Merit Resources and Park Place Catering\n\n	\n\n	Deadline to register is 48 hours before event.  Any registration that comes in after this deadline will be put on a waiting list and billed an additional $5 (if space allows).\n\n	Prepayment is highly encouraged and appreciated.\n\n	Reservations not kept will be billed.\n\n	\n\n	\n\n	Registrations must be canceled the day prior to the luncheon by 3 pm to receive a refund. If not\, you will still be billed.  All cancelations must be made over the phone to ensure staff is aware of your cancelation.  Thank you.
X-ALT-DESC;FMTTYPE=text/html:<p>\n	<span style="font-family:arial\;"><span style="font-size:12px\;">Every month members of the Urbandale Chamber come together to network\, enjoy lunch and listen to a speaker to learn about happenings in Urbandale and around the Greater Des Moines Area.</span></span></p>\n<p>\n	<span style="font-family:arial\;"><span style="font-size:12px\;">Speaker:&nbsp\;</span></span><span style="font-family:calibri\,sans-serif\;"><span style="font-size:11.0pt\;">Rita Grimm\, COO\,&nbsp\;</span></span>IA Economic Development Authority<br />\n	<span style="font-family:arial\;"><span style="font-size:12px\;">Topic:&nbsp\;Happenings in 2014 and projections on what&#39\;s to come<br style="color: rgb(51\, 51\, 51)\; font-family: Arial\, sans-serif\; font-size: 12px\; line-height: 16px\; background-color: rgb(252\, 252\, 252)\;" />\n	<br />\n	Location: Embassy Club West (520 Market Street\, West Des Moines)<br />\n	Time:&nbsp\; 11:30-1 pm</span></span></p>\n<p>\n	<br />\n	<span style="font-family:arial\;"><span style="font-size:12px\;">Cost:&nbsp\; $20/members $30/nonmembers</span></span></p>\n<p>\n	<span style="font-family:arial\;"><span style="font-size:12px\;">Thank you to this month&#39\;s sponsors:&nbsp\;<span style="color: rgb(0\, 0\, 0)\; line-height: 20px\;">Merit Resources and Park Place Catering</span><br />\n	<br />\n	Deadline to register is 48 hours before event.&nbsp\; Any registration that comes in after this deadline will be put on a waiting list and billed an additional $5 (if space allows).<br />\n	Prepayment is highly encouraged and appreciated.<br />\n	Reservations not kept will be billed.<br />\n	<br />\n	<br />\n	Registrations must be canceled the day prior to the luncheon by 3 pm to receive a refund. If not\, you will still be billed. &nbsp\;All cancelations must be made over the phone to ensure staff is aware of your cancelation. &nbsp\;Thank you.</span></span></p>\n<span _fck_bookmark="1" style="display: none">&nbsp\;</span>
LOCATION:Embassy Club West (520 Market Street\, West Des Moines)
UID:e.1185.2398
SEQUENCE:3
DTSTAMP:20260419T210534Z
URL:http://getaquote-mobile.uniquelyurbandale.com/events/details/membership-luncheon-presented-by-stanley-steemer-02-19-2014-2398
END:VEVENT

END:VCALENDAR
