BEGIN:VCALENDAR
VERSION:2.0
PRODID:-//ChamberMaster//Event Calendar 2.0//EN
METHOD:PUBLISH
X-PUBLISHED-TTL:P3D
REFRESH-INTERVAL:P3D
CALSCALE:GREGORIAN
BEGIN:VEVENT
DTSTART:20140917T163000Z
DTEND:20140917T180000Z
X-MICROSOFT-CDO-ALLDAYEVENT:FALSE
SUMMARY:Membership Luncheon\, Presented by Enventis and Funky Zebras
DESCRIPTION:Every month members of the Urbandale Chamber come together to network\, enjoy lunch and listen to a speaker to learn about happenings in Urbandale and around the Greater Des Moines Area.\n\nTopic: Speed Networking\n\nLocation: Embassy Club West (520 Market Street\, WDM)\n\nTime: 11:30-1 pm\n\n\n\nCost: $20/members $30/nonmembers\n\nThank you to this month's sponsors: Park Place Catering and Serendipity Spa\n\nThank you to our exhibitors: Chicks Who Shine\, LearningRx and Remedy Intelligent Staffing\n\n\n\nDeadline to register is 48 hours before event. Any registration that comes in after this deadline will be put on a waiting list and billed an additional $5 (if space allows).\n\nPrepayment is highly encouraged and appreciated.\n\nReservations not kept will be billed.\n\n\n\n\n\nRegistrations must be canceled the day prior to the luncheon by 3 pm to receive a refund. If not\, you will still be billed. All cancelations must be made over the phone to ensure staff is aware of your cancelation. Thank you.
X-ALT-DESC;FMTTYPE=text/html:<p>Every month members of the Urbandale Chamber come together to network\, enjoy lunch and listen to a speaker to learn about happenings in Urbandale and around the Greater Des Moines Area.</p>\n\n<p>Topic: Speed Networking<br />\nLocation: Embassy Club West (520 Market Street\, WDM)<br />\nTime: 11:30-1 pm</p>\n\n<p><br />\nCost: $20/members $30/nonmembers</p>\n\n<p>Thank you to this month&#39\;s sponsors:&nbsp\;Park Place Catering and Serendipity Spa<br />\nThank you to our exhibitors:&nbsp\;Chicks Who Shine\, LearningRx and Remedy Intelligent Staffing<br />\n<br />\nDeadline to register is 48 hours before event. Any registration that comes in after this deadline will be put on a waiting list and billed an additional $5 (if space allows).<br />\nPrepayment is highly encouraged and appreciated.<br />\nReservations not kept will be billed.<br />\n<br />\n<br />\nRegistrations must be canceled the day prior to the luncheon by 3 pm to receive a refund. If not\, you will still be billed. All cancelations must be made over the phone to ensure staff is aware of your cancelation. Thank you.</p>\n
LOCATION:Embassy Club West (520 Market Street\, WDM)
UID:e.1185.2898
SEQUENCE:3
DTSTAMP:20260419T142149Z
URL:http://getaquote-mobile.uniquelyurbandale.com/events/details/membership-luncheon-presented-by-enventis-and-funky-zebras-09-17-2014-2898
END:VEVENT

END:VCALENDAR
