BEGIN:VCALENDAR
VERSION:2.0
PRODID:-//ChamberMaster//Event Calendar 2.0//EN
METHOD:PUBLISH
X-PUBLISHED-TTL:P3D
REFRESH-INTERVAL:P3D
CALSCALE:GREGORIAN
BEGIN:VEVENT
DTSTART:20140716T163000Z
DTEND:20140716T180000Z
X-MICROSOFT-CDO-ALLDAYEVENT:FALSE
SUMMARY:Membership Luncheon\, Presented by Enventis and Funky Zebras
DESCRIPTION:July Only! Members bring a non-member as your GUEST and they only pay the member rate of $20 to attend!! It's the perfect way for them to try an Urbandale Chamber event!! \n\n\n\nEvery month members of the Urbandale Chamber come together to network\, enjoy lunch and listen to a speaker to learn about happenings in Urbandale and around the Greater Des Moines Area.\n\nSpeaker: Michael R. McCoy\n\nTopic: Learn how the best managers drive performance through Question-Centric Coaching\, based off his book It Begs the Question.\n\nSee below for more information.\n\n\n\nLocation: Stoney Creek Inn (5291 Stoney Creek Ct.\, Johnston)\n\nTime: 11:30-1 pm\n\n\n\nCost: $20/members $30/nonmembers\n\nThank you to this month's sponsors: Glen Oaks Alzheimer's Special Care Center and Two Rivers Bank and Trust\n\n\n\nDeadline to register is 48 hours before event. Any registration that comes in after this deadline will be put on a waiting list and billed an additional $5 (if space allows).\n\nPrepayment is highly encouraged and appreciated.\n\nReservations not kept will be billed.\n\n\n\nRegistrations must be canceled the day prior to the luncheon by 3 pm to receive a refund. If not\, you will still be billed. All cancelations must be made over the phone to ensure staff is aware of your cancelation. Thank you.\n\n\n\nMike McCoy is a well known and respected financial services leader\, author and entrepreneur.\n\nAs co-author of "It Begs the Question"\, Mike is a frequent keynote speaker and consultant focusing on how the best managers and leaders drive performance through Question Centric Coaching.  He also consults with private equity firms and individual businesses to help position these organizations for additional growth and success.
X-ALT-DESC;FMTTYPE=text/html:<p><span style="font-size:14px\;">July Only! Members bring a non-member as your GUEST and they only pay the member rate of $20 to attend!! It&#39\;s the perfect way for them to try an Urbandale Chamber event!!&nbsp\;<br />\n<br />\nEvery month members of the Urbandale Chamber come together to network\, enjoy lunch and listen to a speaker to learn about happenings in&nbsp\;Urbandale and around the Greater Des Moines Area.</span></p>\n\n<p><span style="font-size:14px\;">Speaker:&nbsp\;Michael R. McCoy<br />\nTopic: Learn how the best managers drive performance through Question-Centric Coaching\, based off his book<em> It Begs the Question.</em><br />\nSee below for more information.<br />\n<br />\nLocation: Stoney Creek Inn (5291 Stoney Creek Ct.\, Johnston)<br />\nTime: 11:30-1 pm</span></p>\n\n<p><br />\n<span style="font-size:14px\;">Cost: $20/members $30/nonmembers</span></p>\n\n<p><span style="font-size:14px\;">Thank you to this month&#39\;s sponsors:&nbsp\;Glen Oaks Alzheimer&#39\;s Special Care Center and&nbsp\;Two Rivers Bank and Trust<br />\n<br />\nDeadline to register is 48 hours before event. Any registration that comes in after this deadline will be put on a waiting list and billed an additional $5 (if space allows).<br />\nPrepayment is highly encouraged and appreciated.<br />\nReservations not kept will be billed.<br />\n<br />\nRegistrations must be canceled the day prior to the luncheon by 3 pm to receive a refund. If not\, you will still be billed. All cancelations must be made over the phone to ensure staff is aware of your cancelation. Thank you.<br />\n<br />\nMike McCoy is a well known and respected financial services leader\, author and entrepreneur.<br />\nAs co-author of &ldquo\;It Begs the Question&rdquo\;\, Mike is a frequent keynote speaker and consultant focusing on how the best managers and leaders drive performance through Question Centric Coaching.&nbsp\; He also consults with private equity firms and individual businesses to help position these organizations for additional growth and success.</span><br />\n&nbsp\;</p>\n
LOCATION:Stoney Creek Inn (5291 Stoney Creek Ct.\, Johnston)
UID:e.1185.2896
SEQUENCE:3
DTSTAMP:20260419T142149Z
URL:http://getaquote-mobile.uniquelyurbandale.com/events/details/membership-luncheon-presented-by-enventis-and-funky-zebras-07-16-2014-2896
END:VEVENT

END:VCALENDAR
