BEGIN:VCALENDAR
VERSION:2.0
PRODID:-//ChamberMaster//Event Calendar 2.0//EN
METHOD:PUBLISH
X-PUBLISHED-TTL:P3D
REFRESH-INTERVAL:P3D
CALSCALE:GREGORIAN
BEGIN:VEVENT
DTSTART:20140618T163000Z
DTEND:20140618T180000Z
X-MICROSOFT-CDO-ALLDAYEVENT:FALSE
SUMMARY:Membership Luncheon\, Presented by Enventis and Funky Zebras
DESCRIPTION:Every month members of the Urbandale Chamber come together to network\, enjoy lunch and listen to a speaker to learn about happenings in Urbandale and around the Greater Des Moines Area.\n\nTopic: State of the City Presented by Mayor Andeweg\n\nLocation: Des Moines Christian School (13007 Douglas Pkwy.\, Ste. 100\, Urbandale)\n\nTime: 11:30-1 pm\n\n\n\nCost: $20/members $30/nonmembers\n\nThank you to this month's sponsors: AAA Travel & Insurance and Firstcall Construction\n\nThank you to our exhibitors: Center Sphere and Susan Bonnicksen/Superior Printing and Promotions\nDeadline to register is 48 hours before event. Any registration that comes in after this deadline will be put on a waiting list and billed an additional $5 (if space allows).\n\nPrepayment is highly encouraged and appreciated.\n\nReservations not kept will be billed.\n\n\n\n\n\nRegistrations must be canceled the day prior to the luncheon by 3 pm to receive a refund. If not\, you will still be billed. All cancelations must be made over the phone to ensure staff is aware of your cancelation. Thank you.
X-ALT-DESC;FMTTYPE=text/html:<span style="font-size:12px\;"><span style="font-family:arial\;">Every month members of the Urbandale Chamber come together to network\, enjoy lunch and listen to a speaker to learn about happenings in Urbandale and around the Greater Des Moines Area.<br />\nTopic: State of the City Presented by Mayor Andeweg<br />\nLocation: Des Moines Christian School (13007 Douglas Pkwy.\, Ste. 100\, Urbandale)<br />\nTime: 11:30-1 pm<br />\n<br />\nCost: $20/members $30/nonmembers</span></span>\n\n<div style="margin: 11px 0px\; padding: 0px\; color: rgb(85\, 85\, 85)\; font-family: Verdana\, Arial\, Helvetica\, sans-serif\; font-size: 11px\; line-height: normal\;"><span style="font-size:12px\;"><span style="font-family:arial\;"><span style="line-height: 16.639999389648438px\;">Thank you to this month&#39\;s sponsors:&nbsp\;</span><span style="line-height: 16.639999389648438px\;">AAA Travel &amp\; Insurance and&nbsp\;</span><span style="line-height: 16.639999389648438px\;">Firstcall Construction</span></span></span></div>\n\n<div style="margin: 11px 0px\; padding: 0px\; color: rgb(85\, 85\, 85)\; font-family: Verdana\, Arial\, Helvetica\, sans-serif\; font-size: 11px\;"><span style="font-size:12px\;"><span style="font-family:arial\;">Thank you to our exhibitors:&nbsp\;Center Sphere and&nbsp\;<span style="color: rgb(51\, 51\, 51)\; line-height: 1.6\;">Susan </span>Bonnicksen<span style="color: rgb(51\, 51\, 51)\; line-height: 1.6\;">/Superior Printing and Promotions</span></span></span></div>\n<span style="font-size:12px\;"><span style="font-family:arial\;">Deadline to register is 48 hours before event. Any registration that comes in after this deadline will be put on a waiting list and billed an additional $5 (if space allows).<br />\nPrepayment is highly encouraged and appreciated.<br />\nReservations not kept will be billed.<br />\n<br />\n<br />\nRegistrations must be canceled the day prior to the luncheon by 3 pm to receive a refund. If not\, you will still be billed. All cancelations must be made over the phone to ensure staff is aware of your cancelation. Thank you.</span></span>
LOCATION:Des Moines Christian School (13007 Douglas Pkwy.\, Ste. 100\, Urbandale)
UID:e.1185.2895
SEQUENCE:3
DTSTAMP:20260419T152635Z
URL:http://getaquote-mobile.uniquelyurbandale.com/events/details/membership-luncheon-presented-by-enventis-and-funky-zebras-06-18-2014-2895
END:VEVENT

END:VCALENDAR
