BEGIN:VCALENDAR
VERSION:2.0
PRODID:-//ChamberMaster//Event Calendar 2.0//EN
METHOD:PUBLISH
X-PUBLISHED-TTL:P3D
REFRESH-INTERVAL:P3D
CALSCALE:GREGORIAN
BEGIN:VEVENT
DTSTART:20140416T163000Z
DTEND:20140416T180000Z
X-MICROSOFT-CDO-ALLDAYEVENT:FALSE
SUMMARY:Membership Luncheon\, Presented by Enventis and Funky Zebras
DESCRIPTION:Every month members of the Urbandale Chamber come together to network\, enjoy lunch and listen to a speaker to learn about happenings in Urbandale and around the Greater Des Moines Area.\n\nTopic: Speed Networking\n\nLocation: Hilton Garden Inn (8600 Northpark Drive)\n\nTime: 11:30-1 pm\n\n\n\nCost: $20/members $30/nonmembers\n\nThank you to this month's sponsors: Coldwell Banker and Weissenburger Investments & Financial Planning \n\nThank you to our exhibitors: Accelerated Rehabilitation Center\, Famous Dave's BBQ - Urbandale and Midland Credit Union\n\nDeadline to register is 48 hours before event. Any registration that comes in after this deadline will be put on a waiting list and billed an additional $5 (if space allows).\n\nPrepayment is highly encouraged and appreciated.\n\nReservations not kept will be billed.\n\n\n\n\n\nRegistrations must be canceled the day prior to the luncheon by 3 pm to receive a refund. If not\, you will still be billed. All cancelations must be made over the phone to ensure staff is aware of your cancelation. Thank you.
X-ALT-DESC;FMTTYPE=text/html:<p>Every month members of the Urbandale Chamber come together to network\, enjoy lunch and listen to a speaker to learn about happenings in Urbandale and around the Greater Des Moines Area.</p>\n\n<p>Topic: Speed Networking<br />\nLocation: Hilton Garden Inn (8600 Northpark Drive)<br />\nTime: 11:30-1 pm</p>\n\n<p><br />\nCost: $20/members $30/nonmembers</p>\n\n<p style="margin: 11px 0px\; padding: 0px\; color: rgb(85\, 85\, 85)\; font-family: Verdana\, Arial\, Helvetica\, sans-serif\; font-size: 11px\; line-height: normal\;"><span style="line-height: 16.639999389648438px\;">Thank you to this month&#39\;s sponsors:&nbsp\;</span><span style="line-height: 16.639999389648438px\;">Coldwell Banker and&nbsp\;</span><span style="line-height: 16.639999389648438px\;">Weissenburger Investments &amp\; Financial Planning&nbsp\;</span></p>\n\n<p style="margin: 11px 0px\; padding: 0px\; color: rgb(85\, 85\, 85)\; font-family: Verdana\, Arial\, Helvetica\, sans-serif\; font-size: 11px\; line-height: normal\;">Thank you to our exhibitors: Accelerated Rehabilitation Center\,&nbsp\;Famous Dave&#39\;s BBQ - Urbandale and&nbsp\;Midland Credit Union</p>\n\n<p>Deadline to register is 48 hours before event. Any registration that comes in after this deadline will be put on a waiting list and billed an additional $5 (if space allows).<br />\nPrepayment is highly encouraged and appreciated.<br />\nReservations not kept will be billed.<br />\n<br />\n<br />\nRegistrations must be canceled the day prior to the luncheon by 3 pm to receive a refund. If not\, you will still be billed. All cancelations must be made over the phone to ensure staff is aware of your cancelation. Thank you.</p>\n
LOCATION:Location: Hilton Garden Inn (8600 Northpark Drive)
UID:e.1185.2893
SEQUENCE:3
DTSTAMP:20260419T175805Z
URL:http://getaquote-mobile.uniquelyurbandale.com/events/details/membership-luncheon-presented-by-enventis-and-funky-zebras-04-16-2014-2893
END:VEVENT

END:VCALENDAR
