BEGIN:VCALENDAR
VERSION:2.0
PRODID:-//ChamberMaster//Event Calendar 2.0//EN
METHOD:PUBLISH
X-PUBLISHED-TTL:P3D
REFRESH-INTERVAL:P3D
CALSCALE:GREGORIAN
BEGIN:VEVENT
DTSTART:20150218T173000Z
DTEND:20150218T190000Z
X-MICROSOFT-CDO-ALLDAYEVENT:FALSE
SUMMARY:Membership Luncheon\, Presented by Enventis and Funky Zebras
DESCRIPTION:Every month members of the Urbandale Chamber come together to network\, enjoy lunch and listen to a speaker to learn about happenings in Urbandale and around the Greater Des Moines Area.\n\nSpeakers: Curtis Brown\, AJ Johnston and Katie Gieszler-City of Urbandale\n\nTopic: Economic Development\n\nLocation: Ramada Tropics Resort & Conference Center (5000 Merle Hay Rd.\, Urbandale\, IA 50322)\n\nTime: 11:30-1 pm\n\n\n\nCost: $20/members $30/nonmembers\n\nThank you to this month's sponsors: Merit Resources and AO Wealth Advisory\n\n\n\n\n\nDeadline to register is 48 hours before event. Any registration that comes in after this deadline will be put on a waiting list and billed an additional $5 (if space allows).\n\nPrepayment is highly encouraged and appreciated.\n\nReservations not kept will be billed.\n\n\n\nRegistrations must be canceled the day prior to the luncheon by 3 pm to receive a refund. If not\, you will still be billed. All cancelations must be made over the phone to ensure staff is aware of your cancelation. Thank you.
X-ALT-DESC;FMTTYPE=text/html:<p>Every month members of the Urbandale Chamber come together to network\, enjoy lunch and listen to a speaker to learn about happenings in Urbandale and around the Greater Des Moines Area.</p>\n\n<p>Speakers: Curtis Brown\, AJ Johnston and Katie Gieszler-City of Urbandale<br />\nTopic: Economic Development<br />\nLocation: Ramada Tropics Resort &amp\; Conference Center (5000 Merle Hay Rd.\, Urbandale\, IA 50322)<br />\nTime: 11:30-1 pm</p>\n\n<p><br />\nCost: $20/members $30/nonmembers</p>\n\n<p>Thank you to this month&#39\;s sponsors:&nbsp\;Merit Resources and AO Wealth Advisory<br />\n<br />\n<br />\nDeadline to register is 48 hours before event. Any registration that comes in after this deadline will be put on a waiting list and billed an additional $5 (if space allows).<br />\nPrepayment is highly encouraged and appreciated.<br />\nReservations not kept will be billed.<br />\n<br />\nRegistrations must be canceled the day prior to the luncheon by 3 pm to receive a refund. If not\, you will still be billed. All cancelations must be made over the phone to ensure staff is aware of your cancelation. Thank you.</p>\n
LOCATION:Ramada Tropics Resort & Conference Center (5000 Merle Hay Rd.\, Urbandale\, IA 50322)
UID:e.1185.3891
SEQUENCE:3
DTSTAMP:20260419T222315Z
URL:http://getaquote-mobile.uniquelyurbandale.com/events/details/membership-luncheon-presented-by-enventis-and-funky-zebras-02-18-2015-3891
END:VEVENT

END:VCALENDAR
