BEGIN:VCALENDAR
VERSION:2.0
PRODID:-//ChamberMaster//Event Calendar 2.0//EN
METHOD:PUBLISH
X-PUBLISHED-TTL:P3D
REFRESH-INTERVAL:P3D
CALSCALE:GREGORIAN
BEGIN:VEVENT
DTSTART:20150121T173000Z
DTEND:20150121T190000Z
X-MICROSOFT-CDO-ALLDAYEVENT:FALSE
SUMMARY:Membership Luncheon\, Presented by Enventis and Funky Zebras
DESCRIPTION:Every month members of the Urbandale Chamber come together to network\, enjoy lunch and listen to a speaker to learn about happenings in Urbandale and around the Greater Des Moines Area.\n\nSpeaker: Liz Nead\n\n Topic: Her Mount Kilimanjaro  Climb/How to Reach your Goals\n\nLocation: Holiday Inn Hotel & Suites DM Northwest (4800 Merle Hay Rd.\, Urbandale\, IA 50322)\n\n\n\nTime: 11:30-1 pm\n\n\n\nCost: $20/members $30/nonmembers\n\nThank you to this month's sponsors: Travel and Transport Vacations and AO Wealth Advisory\n\n\n\nDeadline to register is 48 hours before event. Any registration that comes in after this deadline will be put on a waiting list and billed an additional $5 (if space allows).\n\nPrepayment is highly encouraged and appreciated.\n\nReservations not kept will be billed.\n\n\n\n\n\nRegistrations must be canceled the day prior to the luncheon by 12 pm to receive a refund. If not\, you will still be billed. All cancelations must be made over the phone to ensure staff is aware of your cancelation. Thank you.
X-ALT-DESC;FMTTYPE=text/html:<p>Every month members of the Urbandale Chamber come together to network\, enjoy lunch and listen to a speaker to learn about happenings in Urbandale and around the Greater Des Moines Area.</p>\n\n<p>Speaker: Liz Nead<br />\n&#8203\;Topic: Her Mount Kilimanjaro&#8203\; Climb/How to Reach your Goals<br />\nLocation:&nbsp\;<span style="line-height: 1.6\;">Holiday Inn Hotel &amp\; Suites </span>DM<span style="line-height: 1.6\;"> Northwest (</span><span style="line-height: 1.6\;">4800 Merle Hay Rd.\,&nbsp\;</span><span style="line-height: 1.6\;">Urbandale\, IA 50322)</span></p>\n\n<p><br />\nTime: 11:30-1 pm</p>\n\n<p><br />\nCost: $20/members $30/nonmembers</p>\n\n<p>Thank you to this month&#39\;s sponsors:&nbsp\;Travel and Transport Vacations and AO Wealth Advisory<br />\n<br />\nDeadline to register is 48 hours before event. Any registration that comes in after this deadline will be put on a waiting list and billed an additional $5 (if space allows).<br />\nPrepayment is highly encouraged and appreciated.<br />\nReservations not kept will be billed.<br />\n<br />\n<br />\nRegistrations must be canceled the day prior to the luncheon by 12 pm to receive a refund. If not\, you will still be billed. All cancelations must be made over the phone to ensure staff is aware of your cancelation. Thank you.</p>\n
LOCATION:Holiday Inn Hotel & Suites DM Northwest (4800 Merle Hay Rd.\, Urbandale\, IA 50322)
UID:e.1185.3890
SEQUENCE:3
DTSTAMP:20260419T193157Z
URL:http://getaquote-mobile.uniquelyurbandale.com/events/details/membership-luncheon-presented-by-enventis-and-funky-zebras-01-21-2015-3890
END:VEVENT

END:VCALENDAR
