BEGIN:VCALENDAR
VERSION:2.0
PRODID:-//ChamberMaster//Event Calendar 2.0//EN
METHOD:PUBLISH
X-PUBLISHED-TTL:P3D
REFRESH-INTERVAL:P3D
CALSCALE:GREGORIAN
BEGIN:VEVENT
DTSTART:20150520T163000Z
DTEND:20150520T180000Z
X-MICROSOFT-CDO-ALLDAYEVENT:FALSE
SUMMARY:Membership Luncheon\, Presented by Enventis and CenturyLink
DESCRIPTION:Every month members of the Urbandale Chamber come together to network\, enjoy lunch and listen to a speaker to learn about happenings in Urbandale and around the Greater Des Moines Area.\n\n\n\nSpeaker/Topic:Gaining a Competitive Advantage in Business Today\n\n You know your products\, your customers\, you have a website and you are even doing some social media marketing. What else do you need? How about the one thing that makes everything else work? In fact\, it is the one thing that makes any success possible.  That one thing is your confidence.\n\n \n\nJim Lobaito\, President of Performance Group   a sales development company\, shares insights from 35 years of coaching and training people on how to build and maintain your confidence and the impact it has on your career and business.\n\n\n\nLocation: Giovannetti Community Shelter at Walker Johnston Park (8900 Douglas Avenue\, Urbandale\, IA 50322)\n\nTime: 11:30-1 pm\n\n\n\nCost: $20/members $30/nonmembers\n\n\n\nThank you to this month's sponsors: DART and Two Rivers Bank and Trust and this month's exhibitor: Davis Brown Law Firm. \n\n\n\n\n\nDeadline to register is 48 hours before event. Any registration that comes in after this deadline will be put on a waiting list and billed an additional $5 (if space allows).\n\nPrepayment is highly encouraged and appreciated.\n\nReservations not kept will be billed.\n\n\n\n\n\nRegistrations must be canceled the day prior to the luncheon by 12 pm in order to receive a credit. If not\, you will still be billed. All cancelations must be made over the phone to ensure staff is aware of your cancelation. Thank you.
X-ALT-DESC;FMTTYPE=text/html:<span style="font-size:14px\;"><span style="font-family:arial\;">Every month members of the Urbandale Chamber come together to network\, enjoy lunch and listen to a speaker to learn about happenings in Urbandale and around the Greater Des Moines Area.<br />\n<br />\nSpeaker/Topic:<strong>Gaining a Competitive Advantage in Business Today</strong><br />\n<em>&nbsp\;You know your products\, your customers\, you have a website and you are even doing some social media marketing. What else do you need? How about the one thing that makes everything else work? In fact\, it is the one thing that makes any success possible.&nbsp\; That one thing is your confidence.<br />\n&nbsp\;<br />\nJim Lobaito\, President of Performance Group &ndash\; a sales development company\, shares insights from 35 years of coaching and training people on how to build and maintain your confidence and the impact it has on your career and business.</em><br />\n<br />\nLocation:&nbsp\;Giovannetti Community Shelter at Walker Johnston Park (8900 Douglas Avenue\, Urbandale\, IA 50322)<br />\nTime: 11:30-1 pm<br />\n<br />\nCost: $20/members $30/nonmembers<br />\n<br />\nThank you to this month&#39\;s <u>sponsors</u>: DART and Two Rivers Bank and Trust and this month&#39\;s <u>exhibitor</u>: Davis Brown Law Firm.&nbsp\;<br />\n<br />\n<br />\nDeadline to register is 48 hours before event. Any registration that comes in after this deadline will be put on a waiting list and billed an additional $5 (if space allows).<br />\nPrepayment is highly encouraged and appreciated.<br />\nReservations not kept will be billed.<br />\n<br />\n<br />\nRegistrations must be canceled the day prior to the luncheon by 12 pm in order to receive a credit. If not\, you will still be billed. All cancelations must be made over the phone to ensure staff is aware of your cancelation. Thank you.</span></span>
LOCATION:Giovannetti Community Shelter at Walker Johnston Park (8900 Douglas Avenue\, Urbandale\, IA 50322)
UID:e.1185.4027
SEQUENCE:3
DTSTAMP:20260420T024459Z
URL:http://getaquote-mobile.uniquelyurbandale.com/events/details/membership-luncheon-presented-by-enventis-and-centurylink-05-20-2015-4027
END:VEVENT

END:VCALENDAR
