BEGIN:VCALENDAR
VERSION:2.0
PRODID:-//ChamberMaster//Event Calendar 2.0//EN
METHOD:PUBLISH
X-PUBLISHED-TTL:P3D
REFRESH-INTERVAL:P3D
CALSCALE:GREGORIAN
BEGIN:VEVENT
DTSTART:20150415T163000Z
DTEND:20150415T180000Z
X-MICROSOFT-CDO-ALLDAYEVENT:FALSE
SUMMARY:Membership Luncheon\, Presented by Enventis and CenturyLink
DESCRIPTION:Every month members of the Urbandale Chamber come together to network\, enjoy lunch and listen to a speaker to learn about happenings in Urbandale and around the Greater Des Moines Area.\n\nTopic: Speed Networking\n\nLocation: Embassy Club West (520 Market Street\, West Des Moines\, IA 50266)\n\nTime: 11:30-1 pm\n\nCost: $20/members $30/nonmembers\n\nThank you to this month's sponsors: American Diabetes Association and Christopher's Fine Jewelry and Rare Coins and this month's exhibitors: Accelerated Rehabilitation Center\, Famous Dave's BBQ-Urbandale and Midland Credit Union!\n\n\n\nDeadline to register is 48 hours before event. Any registration that comes in after this deadline will be put on a waiting list and billed an additional $5 (if space allows).\n\nPrepayment is highly encouraged and appreciated.\n\nReservations not kept will be billed.\n\n\n\nRegistrations must be canceled the day prior to the luncheon by 12 pm in order to receive a credit. If not\, you will still be billed. All cancelations must be made over the phone to ensure staff is aware of your cancelation. Thank you.
X-ALT-DESC;FMTTYPE=text/html:<p>Every month members of the Urbandale Chamber come together to network\, enjoy lunch and listen to a speaker to learn about happenings in Urbandale and around the Greater Des Moines Area.</p>\n\n<p>Topic: Speed Networking<br />\nLocation:&nbsp\;Embassy Club West (520 Market Street\, West Des Moines\, IA 50266)<br />\nTime: 11:30-1 pm<br />\nCost: $20/members $30/nonmembers</p>\n\n<p>Thank you to this month&#39\;s <u>sponsors</u>: American Diabetes Association and Christopher&#39\;s Fine Jewelry and Rare Coins and&nbsp\;this month&#39\;s <u>exhibitors</u>: Accelerated Rehabilitation Center\, Famous Dave&#39\;s BBQ-Urbandale and Midland Credit Union!<br />\n<br />\nDeadline to register is 48 hours before event. Any registration that comes in after this deadline will be put on a waiting list and billed an additional $5 (if space allows).<br />\nPrepayment is highly encouraged and appreciated.<br />\nReservations not kept will be billed.<br />\n<br />\nRegistrations must be canceled the day prior to the luncheon by 12 pm in order to receive a credit. If not\, you will still be billed. All cancelations must be made over the phone to ensure staff is aware of your cancelation. Thank you.</p>\n
LOCATION:Embassy Club West (520 Market Street\, West Des Moines\, IA 50266)
UID:e.1185.4026
SEQUENCE:3
DTSTAMP:20260419T235153Z
URL:http://getaquote-mobile.uniquelyurbandale.com/events/details/membership-luncheon-presented-by-enventis-and-centurylink-04-15-2015-4026
END:VEVENT

END:VCALENDAR
