BEGIN:VCALENDAR
VERSION:2.0
PRODID:-//ChamberMaster//Event Calendar 2.0//EN
METHOD:PUBLISH
X-PUBLISHED-TTL:P3D
REFRESH-INTERVAL:P3D
CALSCALE:GREGORIAN
BEGIN:VEVENT
DTSTART:20150318T163000Z
DTEND:20150318T180000Z
X-MICROSOFT-CDO-ALLDAYEVENT:FALSE
SUMMARY:Membership Luncheon\, Presented by Enventis and CenturyLink
DESCRIPTION:Every month members of the Urbandale Chamber come together to network\, enjoy lunch and listen to a speaker to learn about happenings in Urbandale and around the Greater Des Moines Area.\n\nTopic: Iowa Association of Business and Industry\n\nSpeaker: Leisa Fox-Senior Vice President\, Revenue and Programs and Michele Farrell-Conference Chair\n\nLocation: Stoney Creek Hotel & Conference Center (5291 Stoney Creek Ct.\, Johnston\, IA 50131)\n\nTime: 11:30-1 pm\n\nCost: $20/members $30/nonmembers\n\nThank you to this month's sponsor: Mail Services and this month's exhibitors: Prairie View Animal Hospital and EDWARDS.\n\nDeadline to register is 48 hours before event. Any registration that comes in after this deadline will be put on a waiting list and billed an additional $5 (if space allows).\n\nPrepayment is highly encouraged and appreciated.\n\nReservations not kept will be billed.\n\n\n\nRegistrations must be canceled the day prior to the luncheon by 12 pm in order to receive a credit. If not\, you will still be billed. All cancelations must be made over the phone to ensure staff is aware of your cancelation. Thank you.
X-ALT-DESC;FMTTYPE=text/html:<p><span style="font-size:14px\;"><span style="font-family:arial\;">Every month members of the Urbandale Chamber come together to network\, enjoy lunch and listen to a speaker to learn about happenings in Urbandale and around the Greater Des Moines Area.</span></span></p>\n\n<p><span style="font-size:14px\;"><span style="font-family:arial\;">Topic: Iowa Association of Business and Industry<br />\nSpeaker: Leisa Fox-Senior Vice President\, Revenue and Programs and&nbsp\;<span style="color:#1F497D\;">Michele Farrell-Conference Chair</span><br />\nLocation:&nbsp\;Stoney Creek Hotel &amp\; Conference Center (5291 Stoney Creek Ct.\, Johnston\, IA 50131)<br />\nTime: 11:30-1 pm<br />\nCost: $20/members $30/nonmembers</span></span></p>\n\n<p><span style="font-size:14px\;"><span style="font-family:arial\;">Thank you to this month&#39\;s <u>sponsor</u>: Mail Services and this month&#39\;s <u>exhibitors</u>:&nbsp\;Prairie View Animal&nbsp\;Hospital and EDWARDS.</span></span></p>\n\n<p><span style="font-size:14px\;"><span style="font-family:arial\;">Deadline to register is 48 hours before event. Any registration that comes in after this deadline will be put on a waiting list and billed an additional $5 (if space allows).<br />\nPrepayment is highly encouraged and appreciated.<br />\nReservations not kept will be billed.<br />\n<br />\nRegistrations must be canceled the day prior to the luncheon by 12 pm in order to&nbsp\;receive a credit. If not\, you will still be billed. All cancelations must be made over the phone to ensure staff is aware of your cancelation. Thank you.</span></span></p>\n
LOCATION:Stoney Creek Hotel & Conference Center (5291 Stoney Creek Ct.\, Johnston\, IA 50131)
UID:e.1185.4025
SEQUENCE:3
DTSTAMP:20260419T222315Z
URL:http://getaquote-mobile.uniquelyurbandale.com/events/details/membership-luncheon-presented-by-enventis-and-centurylink-03-18-2015-4025
END:VEVENT

END:VCALENDAR
