BEGIN:VCALENDAR
VERSION:2.0
PRODID:-//ChamberMaster//Event Calendar 2.0//EN
METHOD:PUBLISH
X-PUBLISHED-TTL:P3D
REFRESH-INTERVAL:P3D
CALSCALE:GREGORIAN
BEGIN:VEVENT
DTSTART:20150916T163000Z
DTEND:20150916T180000Z
X-MICROSOFT-CDO-ALLDAYEVENT:FALSE
SUMMARY:Membership Luncheon\, Presented by Consolidated Communications and CenturyLink
DESCRIPTION:Every month members of the Urbandale Chamber come together to network\, enjoy lunch and listen to a speaker to learn about happenings in Urbandale and around the Greater Des Moines Area.\n\nTopic: No Labels\n\nSpeaker: Senator Jeff Danielson\n\n    No Labels is a national movement of Democrats\, Republicans and independents dedicated to a new politics of problem solving.\n\nLocation: Embassy Club West (520 Market Street\, West Des Moines\, IA 50266)\n\nTime: 11:30-1 pm\n\nCost: $20/members $30/nonmembers\n\nThank you to this month's sponsors: Park Place Catering and UCAN Centennial Committee and this month's exhibitors: LearningRx\, Quality Marble and Tile and Remedy Intelligent Staffing\n\n\n\nDeadline to register is 48 hours before event. Any registration that comes in after this deadline will be put on a waiting list and billed an additional $5 (if space allows).\n\nPrepayment is highly encouraged and appreciated.\n\nReservations not kept will be billed.\n\n\n\n\n\nRegistrations must be canceled the day prior to the luncheon by 12 pm in order to receive a credit. If not\, you will still be billed. All cancelations must be made over the phone to ensure staff is aware of your cancelation. Thank you.
X-ALT-DESC;FMTTYPE=text/html:<p>Every month members of the Urbandale Chamber come together to network\, enjoy lunch and listen to a speaker to learn about happenings in Urbandale and around the Greater Des Moines Area.</p>\n\n<p>Topic: No Labels<br />\nSpeaker: Senator Jeff Danielson<br />\n&nbsp\;&nbsp\;&nbsp\;&nbsp\;<span style="font-family:arial\,sans-serif\;"><span style="font-size:10.0pt\;">No Labels is a national movement of Democrats\, Republicans and independents dedicated to a new politics of problem solving.</span></span><br />\nLocation:&nbsp\;Embassy Club West (520 Market Street\, West Des Moines\, IA 50266)<br />\nTime: 11:30-1 pm<br />\nCost: $20/members $30/nonmembers</p>\n\n<p>Thank you to this month&#39\;s <u>sponsors</u>: Park Place Catering and UCAN&nbsp\;Centennial Committee&nbsp\;and this month&#39\;s <u>exhibitors</u>: LearningRx\, Quality Marble and Tile&nbsp\;and Remedy Intelligent Staffing<br />\n<br />\nDeadline to register is 48 hours before event. Any registration that comes in after this deadline will be put on a waiting list and billed an additional $5 (if space allows).<br />\nPrepayment is highly encouraged and appreciated.<br />\nReservations not kept will be billed.<br />\n<br />\n<br />\nRegistrations must be canceled the day prior to the luncheon by 12 pm in order to receive a credit. If not\, you will still be billed. All cancelations must be made over the phone to ensure staff is aware of your cancelation. Thank you.</p>\n
LOCATION:Embassy Club West (520 Market Street\, West Des Moines\, IA 50266)
UID:e.1185.4031
SEQUENCE:3
DTSTAMP:20260420T070143Z
URL:http://getaquote-mobile.uniquelyurbandale.com/events/details/membership-luncheon-presented-by-consolidated-communications-and-centurylink-09-16-2015-4031
END:VEVENT

END:VCALENDAR
