BEGIN:VCALENDAR
VERSION:2.0
PRODID:-//ChamberMaster//Event Calendar 2.0//EN
METHOD:PUBLISH
X-PUBLISHED-TTL:P3D
REFRESH-INTERVAL:P3D
CALSCALE:GREGORIAN
BEGIN:VEVENT
DTSTART:20150819T163000Z
DTEND:20150819T180000Z
X-MICROSOFT-CDO-ALLDAYEVENT:FALSE
SUMMARY:Membership Luncheon\, Presented by Consolidated Communications and CenturyLink
DESCRIPTION:Every month members of the Urbandale Chamber come together to network\, enjoy lunch and listen to a speaker to learn about happenings in Urbandale and around the Greater Des Moines Area.\n\nTopic: Miracle League\n\nLocation: Ramada Tropics Resort & Conference Center (5000 Merle Hay Rd.\, Urbandale\, IA 50322)\n\nTime: 11:30-1 pm\n\nCost: $20/members $30/nonmembers\n\nThank you to this month's sponsors: Shive-Hattery and M2K Marketing and this month's exhibitors: Plaza Florist & Gifts and Sylvan Learning Centers\n\n\n\n\n\nDeadline to register is Friday\, August 14th. Any registration that comes in after this deadline will be put on a waiting list and billed an additional $5 (if space allows).\n\nPrepayment is highly encouraged and appreciated.\n\nReservations not kept will be billed.\n\n\n\n\n\nRegistrations must be canceled the day prior to the luncheon by 12 pm in order to receive a credit. If not\, you will still be billed. All cancelations must be made over the phone to ensure staff is aware of your cancelation. Thank you.
X-ALT-DESC;FMTTYPE=text/html:<p>Every month members of the Urbandale Chamber come together to network\, enjoy lunch and listen to a speaker to learn about happenings in Urbandale and around the Greater Des Moines Area.</p>\n\n<p>Topic: Miracle League<br />\nLocation:&nbsp\;Ramada Tropics Resort &amp\; Conference Center (5000 Merle Hay Rd.\, Urbandale\, IA 50322)<br />\nTime: 11:30-1 pm<br />\nCost: $20/members $30/nonmembers</p>\n\n<p>Thank you to this month&#39\;s <u>sponsors</u>: Shive-Hattery and M2K Marketing&nbsp\;and this month&#39\;s <u>exhibitors</u>: Plaza Florist &amp\; Gifts and Sylvan Learning Centers<br />\n<br />\n<br />\nDeadline to register is Friday\, August 14th. Any registration that comes in after this deadline will be put on a waiting list and billed an additional $5 (if space allows).<br />\nPrepayment is highly encouraged and appreciated.<br />\nReservations not kept will be billed.<br />\n<br />\n<br />\nRegistrations must be canceled the day prior to the luncheon by 12 pm in order to receive a credit. If not\, you will still be billed. All cancelations must be made over the phone to ensure staff is aware of your cancelation. Thank you.</p>\n
LOCATION:Ramada Tropics Resort & Conference Center (5000 Merle Hay Rd.\, Urbandale\, IA 50322)
UID:e.1185.4030
SEQUENCE:3
DTSTAMP:20260420T054143Z
URL:http://getaquote-mobile.uniquelyurbandale.com/events/details/membership-luncheon-presented-by-consolidated-communications-and-centurylink-08-19-2015-4030
END:VEVENT

END:VCALENDAR
