BEGIN:VCALENDAR
VERSION:2.0
PRODID:-//ChamberMaster//Event Calendar 2.0//EN
METHOD:PUBLISH
X-PUBLISHED-TTL:P3D
REFRESH-INTERVAL:P3D
CALSCALE:GREGORIAN
BEGIN:VEVENT
DTSTART:20201201T150000Z
DTEND:20201201T160000Z
X-MICROSOFT-CDO-ALLDAYEVENT:FALSE
SUMMARY:Virtual Meet the Urbandale Chamber\, Presented by REMAX Concepts - Jennifer Paulsen
DESCRIPTION:Meet the Urbandale Chamber! Learn more about your Chamber membership and how it serves your business.\n\n\n\nWho should attend? New members\, new representatives\, future members\, longtime members\n\n\n\nGrab your coffee\, meet other members/staff\, and learn more about accessing your benefits in a small group\, informal gathering. Bring your questions!
X-ALT-DESC;FMTTYPE=text/html:<span style="color: rgb(68\, 68\, 68)\; font-family: Arial\, Helvetica\, sans-serif\; font-size: 14px\;">Meet the Urbandale Chamber! Learn more about your Chamber membership and how it serves your business.</span><br style="box-sizing: border-box\; color: rgb(68\, 68\, 68)\; font-family: Arial\, Helvetica\, sans-serif\; font-size: 14px\;" />\n<br style="box-sizing: border-box\; color: rgb(68\, 68\, 68)\; font-family: Arial\, Helvetica\, sans-serif\; font-size: 14px\;" />\n<span style="color: rgb(68\, 68\, 68)\; font-family: Arial\, Helvetica\, sans-serif\; font-size: 14px\;">Who should attend? New members\, new representatives\, future members\, longtime members</span><br style="box-sizing: border-box\; color: rgb(68\, 68\, 68)\; font-family: Arial\, Helvetica\, sans-serif\; font-size: 14px\;" />\n<br style="box-sizing: border-box\; color: rgb(68\, 68\, 68)\; font-family: Arial\, Helvetica\, sans-serif\; font-size: 14px\;" />\n<span style="color: rgb(68\, 68\, 68)\; font-family: Arial\, Helvetica\, sans-serif\; font-size: 14px\;">Grab your coffee\, meet other members/staff\, and learn more about accessing your benefits in a small group\, informal gathering. Bring your questions!</span>
LOCATION:Virtual event. A Zoom link will be sent to registered attendees in the email confirmation.
UID:e.1185.6466
SEQUENCE:3
DTSTAMP:20260424T071853Z
URL:http://getaquote-mobile.uniquelyurbandale.com/events/details/meet-the-urbandale-chamber-presented-by-remax-concepts-jennifer-paulsen-12-01-2020-6466
END:VEVENT

END:VCALENDAR
