BEGIN:VCALENDAR
VERSION:2.0
PRODID:-//ChamberMaster//Event Calendar 2.0//EN
METHOD:PUBLISH
X-PUBLISHED-TTL:P3D
REFRESH-INTERVAL:P3D
CALSCALE:GREGORIAN
BEGIN:VEVENT
DTSTART:20150908T140000Z
DTEND:20150908T150000Z
X-MICROSOFT-CDO-ALLDAYEVENT:FALSE
SUMMARY:Meet the Chamber - Featuring Iowa Association of Business and Industry
DESCRIPTION:Join us every Tuesday morning at 9 a.m. for coffee and conversation about how you can take advantage of your Urbandale Chamber of Commerce membership benefits. This coffee is open to new and existing members who want to get acquainted with all the Chamber has to offer. Held in the RODAN Board Room at the Urbandale Chamber offices (2830 100 St. Ste. 110\, Urbandale\, IA\, 50322).\n\n\n\nIowa Association of Business and Industry is Iowa's oldest and largest statewide business network representing 1\,500 members in all 99 counties. Kathy Anderson\, Vice President Member Development and Programs will be present at this morning's meeting in order to answer all you questions about the ABI/ Urbandale Chamber Alliance and what your affiliate member benefits are.\n\n\n\n Event is free to attend\, but registration is requested.
X-ALT-DESC;FMTTYPE=text/html:<span style="font-family:arial\;"><span style="line-height: 22.3999996185303px\; color: black\;">Join us every Tuesday morning at 9 a.m. for coffee and conversation about how you can take advantage of your&nbsp\;Urbandale&nbsp\;Chamber of Commerce membership benefits. This coffee is open to new and existing members who want to get acquainted with all the Chamber has to offer. Held in the&nbsp\;RODAN&nbsp\;Board Room at the&nbsp\;Urbandale&nbsp\;Chamber offices (2830 100 St. Ste. 110\,&nbsp\;Urbandale\, IA\, 50322).</span><br style="font-size: 14px\; line-height: 22.3999996185303px\;" />\n<br style="font-size: 14px\; line-height: 22.3999996185303px\;" />\n<span style="line-height: 22.3999996185303px\; background-image: initial\; background-attachment: initial\; background-size: initial\; background-origin: initial\; background-clip: initial\; background-position: initial\; background-repeat: initial\;"><span style="color: black\;">Iowa Association of Business and Industry is Iowa&rsquo\;s oldest and largest&nbsp\;</span><span style="color: rgb(0\, 0\, 0)\;">statewide business network representing 1\,500 members in all 99 counties.&nbsp\;</span></span><span style="font-size: 12pt\; color: black\; border: 1pt none windowtext\; padding: 0in\; background-image: initial\; background-attachment: initial\; background-size: initial\; background-origin: initial\; background-clip: initial\; background-position: initial\; background-repeat: initial\;">Kathy Anderson\, Vice President Member Development and Programs</span><span style="line-height: 22.3999996185303px\; color: rgb(0\, 0\, 0)\;"> will be present at this morning&rsquo\;s meeting in order to answer all you questions about the ABI/&nbsp\;Urbandale&nbsp\;Chamber Alliance and what your affiliate member benefits are.</span><br style="font-size: 14px\; line-height: 22.3999996185303px\;" />\n<br style="font-size: 14px\; line-height: 22.3999996185303px\;" />\n<span style="line-height: 22.3999996185303px\;">&nbsp\;Event is free to attend\, but registration is requested.&nbsp\;</span></span>
LOCATION:RODAN Board Room at the Urbandale Chamber of Commerce Office (2830 100 St. Ste. 110\, Urbandale\, IA\, 50322)
UID:e.1185.3976
SEQUENCE:3
DTSTAMP:20260420T070542Z
URL:http://getaquote-mobile.uniquelyurbandale.com/events/details/meet-the-chamber-featuring-iowa-association-of-business-and-industry-09-08-2015-3976
END:VEVENT

END:VCALENDAR
