BEGIN:VCALENDAR
VERSION:2.0
PRODID:-//ChamberMaster//Event Calendar 2.0//EN
METHOD:PUBLISH
X-PUBLISHED-TTL:P3D
REFRESH-INTERVAL:P3D
CALSCALE:GREGORIAN
BEGIN:VEVENT
DTSTART:20151222T150000Z
DTEND:20151222T160000Z
X-MICROSOFT-CDO-ALLDAYEVENT:FALSE
SUMMARY:Meet the Chamber - Featuring "All About Events"
DESCRIPTION:Join us every Tuesday morning at 9 a.m. for coffee and conversation about how you can take advantage of your Urbandale Chamber of Commerce membership benefits. This coffee is open to new and existing members who want to get acquainted with all the Chamber has to offer. Held in the RODAN Board Room at the Urbandale Chamber offices (2830 100 St. Ste. 110\, Urbandale\, IA\, 50322).\n\n\n\nThis week we will deep dive into "events" held by the Urbandale Chamber. The following questions will be addressed with ample time for Q&A:\n\n-When and where are the events held?\n\n-What should I expect to happen at each event?\n\n-How many people attend?\n\n-Which events will help me reach my specific goals of membership?\n\n-Which events should I attend amd how do I register to attend?\n\n-May I bring a guest or request a Connector to introduce me at the event?\n\n-What should I bring with me to the event?\n\n\n\n Event is free to attend\, but registration is requested.
X-ALT-DESC;FMTTYPE=text/html:<span style="color: black\;">Join us every Tuesday morning at 9 a.m. for coffee and conversation about how you can take advantage of your Urbandale Chamber of Commerce membership benefits. This coffee is open to new and existing members who want to get acquainted with all the Chamber has to offer. Held in the RODAN Board Room at the Urbandale Chamber offices (2830 100 St. Ste. 110\, Urbandale\, IA\, 50322).</span><br />\n<br />\n<span style="color: rgb(0\, 0\, 0)\; font-family: arial\, sans-serif\; font-size: 14px\; line-height: 22.4px\;">This week we will deep dive into &quot\;events&quot\; held by the&nbsp\;</span>Urbandale<span style="color: rgb(0\, 0\, 0)\; font-family: arial\, sans-serif\; font-size: 14px\; line-height: 22.4px\;">&nbsp\;Chamber. The following questions will be addressed with ample time for Q&amp\;A:</span><br style="color: rgb(0\, 0\, 0)\; font-family: arial\, sans-serif\; font-size: 14px\; line-height: 22.4px\;" />\n<span style="color: rgb(0\, 0\, 0)\; font-family: arial\, sans-serif\; font-size: 14px\; line-height: 22.4px\;">-When and where are the events held?</span><br style="color: rgb(0\, 0\, 0)\; font-family: arial\, sans-serif\; font-size: 14px\; line-height: 22.4px\;" />\n<span style="color: rgb(0\, 0\, 0)\; font-family: arial\, sans-serif\; font-size: 14px\; line-height: 22.4px\;">-What should I expect to happen at each event?</span><br style="color: rgb(0\, 0\, 0)\; font-family: arial\, sans-serif\; font-size: 14px\; line-height: 22.4px\;" />\n<span style="color: rgb(0\, 0\, 0)\; font-family: arial\, sans-serif\; font-size: 14px\; line-height: 22.4px\;">-How many people attend?</span><br style="color: rgb(0\, 0\, 0)\; font-family: arial\, sans-serif\; font-size: 14px\; line-height: 22.4px\;" />\n<span style="color: rgb(0\, 0\, 0)\; font-family: arial\, sans-serif\; font-size: 14px\; line-height: 22.4px\;">-Which events will help me reach my specific goals of membership?</span><br style="color: rgb(0\, 0\, 0)\; font-family: arial\, sans-serif\; font-size: 14px\; line-height: 22.4px\;" />\n<span style="color: rgb(0\, 0\, 0)\; font-family: arial\, sans-serif\; font-size: 14px\; line-height: 22.4px\;">-Which events should I attend amd how do I register to attend?</span><br style="color: rgb(0\, 0\, 0)\; font-family: arial\, sans-serif\; font-size: 14px\; line-height: 22.4px\;" />\n<span style="color: rgb(0\, 0\, 0)\; font-family: arial\, sans-serif\; font-size: 14px\; line-height: 22.4px\;">-May I bring a guest or request a Connector to introduce me at the event?</span><br style="color: rgb(0\, 0\, 0)\; font-family: arial\, sans-serif\; font-size: 14px\; line-height: 22.4px\;" />\n<span style="color: rgb(0\, 0\, 0)\; font-family: arial\, sans-serif\; font-size: 14px\; line-height: 22.4px\;">-What should I bring with me to the event?</span><br />\n<br />\n&nbsp\;Event is free to attend\, but registration is requested.&nbsp\;<br />\n&nbsp\;&nbsp\;<br />\n<br />\n<br />\n&nbsp\;
LOCATION:RODAN Board Room at the Urbandale Chamber of Commerce Office (2830 100 St. Ste. 110\, Urbandale\, IA\, 50322)
UID:e.1185.3991
SEQUENCE:3
DTSTAMP:20260420T114455Z
URL:http://getaquote-mobile.uniquelyurbandale.com/events/details/meet-the-chamber-featuring-all-about-events-12-22-2015-3991
END:VEVENT

END:VCALENDAR
