BEGIN:VCALENDAR
VERSION:2.0
PRODID:-//ChamberMaster//Event Calendar 2.0//EN
METHOD:PUBLISH
X-PUBLISHED-TTL:P3D
REFRESH-INTERVAL:P3D
CALSCALE:GREGORIAN
BEGIN:VEVENT
DTSTART:20151124T150000Z
DTEND:20151124T160000Z
X-MICROSOFT-CDO-ALLDAYEVENT:FALSE
SUMMARY:Meet the Chamber - Featuring "All About Events"
DESCRIPTION:Always wondered what happened at the business events at the Chamber? Now is the perfect opportunity to learn by attending Meet the Chamber Featuring "All About Chamber Business Events" this Tuesday morning from 9-10 am. We serve delicious Friedrich's coffee and have an insightful conversations about each event and answer questions such as:\n\n\n	When are the Chamber business events held?\n	What is the structure of each event?\n	What should I expect when I walk in the room?\n	Will you have a name tag for me?\n	Which events will best help my business meet its goals? \n	Who else attends and what do I bring with me?\n	How do I register to attend an event?\n	Can I bring a guest?\n	Other Q&A\n\n \n\nHeld in the RODAN Board Room at the Urbandale Chamber offices (2830 100 St. Ste. 110\, Urbandale\, IA\, 50322). Event is free to attend\, but registration is requested.
X-ALT-DESC;FMTTYPE=text/html:<span style="color:black\;">Always wondered what happened at the business events at the Chamber? Now is the perfect opportunity to learn by attending Meet the Chamber Featuring &ldquo\;All About Chamber Business Events&rdquo\; this Tuesday morning from 9-10 am. We serve delicious Friedrich&rsquo\;s coffee and have an insightful conversations about each event and answer questions such as:</span>\n\n<ul>\n	<li><span style="color:black\;">When are the Chamber business events held?</span></li>\n	<li><span style="color:black\;">What is the structure of each event?</span></li>\n	<li><span style="color:black\;">What should I expect when I walk in the room?</span></li>\n	<li><span style="color:black\;">Will you have a name tag for me?</span></li>\n	<li><span style="color:black\;">Which events will best help my business meet its goals? </span></li>\n	<li><span style="color:black\;">Who else attends and what do I bring with me?</span></li>\n	<li><span style="color:black\;">How do I register to attend an event?</span></li>\n	<li><span style="color:black\;">Can I bring a guest?</span></li>\n	<li><span style="color:black\;">Other Q&amp\;A</span></li>\n</ul>\n&nbsp\;<br />\n<span style="color:black\;"><span style="font-family:calibri\,sans-serif\;"><span style="font-size:11.0pt\;">Held in the&nbsp\;RODAN</span></span>&nbsp\;Board Room at the&nbsp\;Urbandale</span>&nbsp\;Chamber offices (2830 100 St. Ste. 110\,&nbsp\;Urbandale\, IA\, 50322). <span style="background-image:initial\;background-attachment:initial\;background-size:initial\;background-origin:initial\;background-clip:initial\;background-position:initial\;background-repeat:initial\;">Event is free to attend\, but registration is requested.&nbsp\;</span><br />\n&nbsp\;
LOCATION:RODAN Board Room at the Urbandale Chamber of Commerce Office (2830 100 St. Ste. 110\, Urbandale\, IA\, 50322)
UID:e.1185.3987
SEQUENCE:3
DTSTAMP:20260420T114008Z
URL:http://getaquote-mobile.uniquelyurbandale.com/events/details/meet-the-chamber-featuring-all-about-events-11-24-2015-3987
END:VEVENT

END:VCALENDAR
