BEGIN:VCALENDAR
VERSION:2.0
PRODID:-//ChamberMaster//Event Calendar 2.0//EN
METHOD:PUBLISH
X-PUBLISHED-TTL:P3D
REFRESH-INTERVAL:P3D
CALSCALE:GREGORIAN
BEGIN:VEVENT
DTSTART:20150616T140000Z
DTEND:20150616T150000Z
X-MICROSOFT-CDO-ALLDAYEVENT:FALSE
SUMMARY:Meet the Chamber
DESCRIPTION:Featuring genYP - Presentation by Lucas Scott\, Chair of genYP (young professionals) program! You won't want to miss out on this morning where we'll brew some coffee\, and have a great conversation about the genYP program\, learn how you can get involved\, and ask any questions you may have. Please register now to attend!\n\n\n\nJoin us every Tuesday morning at 9 a.m. for coffee and conversation about how you can take advantage of your Urbandale Chamber of Commerce membership benefits. This coffee is open to new and existing members who want to get acquainted with all the Chamber has to offer. Held in the RODAN Board Room at the Urbandale Chamber offices (2830 100 St. Ste. 110\, Urbandale\, IA\, 50322).\n\n\n\nFeaturing genYP - Presentation by Bret Peterson\, Chair of genYP (young professionals) program! You won't want to miss out on this morning where we'll brew some coffee\, and have a great conversation about the genYP program\, learn how you can get involved\, and ask any questions you may have. Please register now to attend!\n\n\n\n Event is free to attend\, but registration is requested.
X-ALT-DESC;FMTTYPE=text/html:<span style="color:#000000\;"><span style="font-size:14px\;">Featuring&nbsp\;genYP&nbsp\;- Presentation by&nbsp\;Lucas Scott\, Chair of&nbsp\;genYP&nbsp\;(young professionals) program! You won&#39\;t want to miss out on this morning where we&#39\;ll brew some coffee\, and have a great conversation about the&nbsp\;genYP&nbsp\;program\, learn how you can get involved\, and ask any questions you may have. Please register now to attend!</span></span><br />\n<br />\n<span style="font-size:14px\;"><span style="color: black\;">Join us every Tuesday morning at 9 a.m. for coffee and conversation about how you can take advantage of your Urbandale Chamber of Commerce membership benefits. This coffee is open to new and existing members who want to get acquainted with all the Chamber has to offer. Held in the RODAN Board Room at the Urbandale Chamber offices (2830 100 St. Ste. 110\, Urbandale\, IA\, 50322).</span><br />\n<br />\n<span style="color:black\;"><span style="font-family:arial\,sans-serif\;">Featuring&nbsp\;genYP&nbsp\;- Presentation by Bret Peterson\, Chair of&nbsp\;genYP&nbsp\;(young professionals) program! You won&#39\;t want to miss out on this morning where we&#39\;ll brew some coffee\, and have a great conversation about the&nbsp\;genYP&nbsp\;program\, learn how you can get involved\, and ask any questions you may have. Please register now to attend!</span></span><br />\n<br />\n&nbsp\;Event is free to attend\, but registration is requested.&nbsp\;<br />\n&nbsp\;&nbsp\;</span><br />\n<br />\n<br />\n&nbsp\;
LOCATION:RODAN Board Room at the Urbandale Chamber of Commerce Office (2830 100 St. Ste. 110\, Urbandale\, IA\, 50322)
UID:e.1185.3964
SEQUENCE:3
DTSTAMP:20260420T024337Z
URL:http://getaquote-mobile.uniquelyurbandale.com/events/details/meet-the-chamber-06-16-2015-3964
END:VEVENT

END:VCALENDAR
