BEGIN:VCALENDAR
VERSION:2.0
PRODID:-//ChamberMaster//Event Calendar 2.0//EN
METHOD:PUBLISH
X-PUBLISHED-TTL:P3D
REFRESH-INTERVAL:P3D
CALSCALE:GREGORIAN
BEGIN:VEVENT
DTSTART:20150324T130000Z
DTEND:20150324T140000Z
X-MICROSOFT-CDO-ALLDAYEVENT:FALSE
SUMMARY:Meet the Chamber
DESCRIPTION:PLEASE NOTE TIME CHANGE TO 8 A.M.\n\n\n\nCome to the Chamber for coffee and conversation about how you can take advantage of your Urbandale Chamber of Commerce membership benefits. This coffee is open to new and existing members who want to get acquainted with all the Chamber has to offer. Held in the RODAN Board Room at the Urbandale Chamber offices (2830 100 St. Ste. 110\, Urbandale\, IA\, 50322).\n\n\n\nThis Meet the Chamber event will feature the Greater Des Moines Partnership\, Meg Fitz will be on hand to answer any questions you may have and go over the many benefits you receive through that complimentary membership when you join the Urbandale Chamber. \n\n\n\n Event is free to attend\, but registration is requested.
X-ALT-DESC;FMTTYPE=text/html:<span style="font-size:14px\;"><strong><span style="color:#FF0000\;">PLEASE NOTE TIME CHANGE TO 8 A.M.</span></strong><br />\n<br />\n<span style="color: black\;">Come to the Chamber for coffee and conversation about how you can take advantage of your Urbandale Chamber of Commerce membership benefits. This coffee is open to new and existing members who want to get acquainted with all the Chamber has to offer. Held in the RODAN Board Room at the Urbandale Chamber offices (2830 100 St. Ste. 110\, Urbandale\, IA\, 50322).<br />\n<br />\n<span style="font-family:arial\,sans-serif\;">This Meet the Chamber event will feature the Greater Des Moines Partnership\, Meg Fitz will be on hand to answer any questions you may have and go over the many benefits you receive through that complimentary membership when you join the&nbsp\;Urbandale&nbsp\;Chamber.&nbsp\;</span></span><br />\n<br />\n&nbsp\;Event is free to attend\, but registration is requested.&nbsp\;<br />\n&nbsp\;&nbsp\;</span><br />\n<br />\n<br />\n&nbsp\;
LOCATION:RODAN Board Room at the Urbandale Chamber of Commerce Office (2830 100 St. Ste. 110\, Urbandale\, IA\, 50322)
UID:e.1185.3952
SEQUENCE:3
DTSTAMP:20260419T222253Z
URL:http://getaquote-mobile.uniquelyurbandale.com/events/details/meet-the-chamber-03-24-2015-3952
END:VEVENT

END:VCALENDAR
