BEGIN:VCALENDAR
VERSION:2.0
PRODID:-//ChamberMaster//Event Calendar 2.0//EN
METHOD:PUBLISH
X-PUBLISHED-TTL:P3D
REFRESH-INTERVAL:P3D
CALSCALE:GREGORIAN
BEGIN:VEVENT
DTSTART:20170513T170000Z
DTEND:20170513T220000Z
X-MICROSOFT-CDO-ALLDAYEVENT:FALSE
SUMMARY:May 13\, 2017 Iowa Wine Tour
DESCRIPTION:Enjoy a Saturday afternoon (May 13\, 2017 to be exact) visiting three picturesque Central Iowa vineyards and wineries! Enjoy wine tasting\, education\, vineyard tours and on-site shopping. Wineries on this tour include Jasper Winery\, Summerset Winery and Two Saints Winery. Price per person of $55 includes ticketing fees\, round-trip transportation\, bottled water and snacks on-board the bus. Must be 21 years or older to participate. Please drink responsibly. Those who are not responsible and cannot control themselves during the tour will not be allowed to return to the bus to continue with the event and they will not be allowed to participate in any future bus tour events produced by Suzanne Hull and Contemporary Business Solutions. DOs: Bring other beverages you would like to drink on the bus during the afternoon. I'll bring a few coolers with ice. Buy bottles at the vineyards - you can bring wine bottles on the bus with you. Eat a good\, solid lunch so you'll be ready for the afternoon. Jasper Winery Arrive: 12:00 pm\, Welcome: 12:15 pm\, Wine Tasting/Tour: 12:20-1:00 pm\, Depart: 1:15pm Guided tasting includes 5 - 1 oz pours. After the tasting\, enjoy on-site shopping. Summerset Winery Arrive 1:45 pm\, Depart 2:45 pm Guided tasting includes 5 - 1 oz pours. Enjoy on-site shopping and a brief winery tour. Two Saints Winery Arrive: 3:15pm\, Depart: 4:15pm Guided tasting includes 5 - 1 oz pours and on-site shopping. Jasper Winery Arrive: 5:00pm
X-ALT-DESC;FMTTYPE=text/html:Enjoy a Saturday afternoon (May 13\, 2017 to be exact) visiting three picturesque Central Iowa vineyards and wineries! Enjoy wine tasting\, education\, vineyard tours and on-site shopping. Wineries on this tour include Jasper Winery\, Summerset Winery and Two Saints Winery. Price per person of $55 includes ticketing fees\, round-trip transportation\, bottled water and snacks on-board the bus. Must be 21 years or older to participate. Please drink responsibly. Those who are not responsible and cannot control themselves during the tour will not be allowed to return to the bus to continue with the event and they will not be allowed to participate in any future bus tour events produced by Suzanne Hull and Contemporary Business Solutions. DOs: Bring other beverages you would like to drink on the bus during the afternoon. I&#39\;ll bring a few coolers with ice. Buy bottles at the vineyards - you can bring wine bottles on the bus with you. Eat a good\, solid lunch so you&#39\;ll be ready for the afternoon. Jasper Winery Arrive: 12:00 pm\, Welcome: 12:15 pm\, Wine Tasting/Tour: 12:20-1:00 pm\, Depart: 1:15pm Guided tasting includes 5 - 1 oz pours. After the tasting\, enjoy on-site shopping. Summerset Winery Arrive 1:45 pm\, Depart 2:45 pm Guided tasting includes 5 - 1 oz pours. Enjoy on-site shopping and a brief winery tour. Two Saints Winery Arrive: 3:15pm\, Depart: 4:15pm Guided tasting includes 5 - 1 oz pours and on-site shopping. Jasper Winery Arrive: 5:00pm
LOCATION:Jasper Winery
UID:e.1185.5187
SEQUENCE:3
DTSTAMP:20260421T120354Z
URL:http://getaquote-mobile.uniquelyurbandale.com/events/details/may-13-2017-iowa-wine-tour-5187
END:VEVENT

END:VCALENDAR
