BEGIN:VCALENDAR
VERSION:2.0
PRODID:-//ChamberMaster//Event Calendar 2.0//EN
METHOD:PUBLISH
X-PUBLISHED-TTL:P3D
REFRESH-INTERVAL:P3D
CALSCALE:GREGORIAN
BEGIN:VEVENT
DTSTART:20210327T153000Z
DTEND:20210327T170000Z
X-MICROSOFT-CDO-ALLDAYEVENT:FALSE
SUMMARY:March Talk with Officials\, Presented by Jon Smith\, Iowa Realty
DESCRIPTION:Talk with Officials is a forum for the business community to connect with elected officials representing Urbandale at the State\, County\, City and School District.  Space is limited.\n\n\n\nThe Talk with Officials events are open to the general public and held on the last Saturday of each respective month.  Registration is required with in-person registration limited due to social distancing requirements.  Virtual attendance is unlimited\, however registration is still required to receive the zoom link.\n\n\n\nQuestions will be accepted both from in-person and virtual attendees.  \n\n\n\nInvited elected officials include: Urbandale Mayor Robert Andeweg\, Senator Brad Zaun (R)\, Representative John Forbes (D)\, Representative Eddie Andrews\, Polk County Supervisor Robert Brownell (R) and Katherine Howsare\, Urbandale Schools. \n\n\n\nA special thank you to Jon Smith with Iowa Realty for sponsoring the Talk with Officials Series in 2021.
X-ALT-DESC;FMTTYPE=text/html:Talk with Officials is a forum for the business community to connect with elected officials representing Urbandale at the State\, County\, City and School District.&nbsp\; Space is limited.<br style="font-family: arial\, sans-serif\; font-size: 14px\;" />\n<br style="font-family: arial\, sans-serif\; font-size: 14px\;" />\nThe Talk with Officials events are open to the general public and held on the last Saturday of each respective month.&nbsp\; Registration is required with in-person registration limited due to social distancing requirements.&nbsp\; Virtual attendance is unlimited\, however registration is still required to receive the zoom link.<br />\n<br />\nQuestions will be accepted both from in-person and virtual attendees.&nbsp\;&nbsp\;<br />\n<br />\nInvited elected officials include: Urbandale Mayor Robert Andeweg\, Senator Brad Zaun (R)\, Representative John Forbes (D)\, Representative Eddie Andrews\, Polk County Supervisor Robert Brownell (R) and Katherine Howsare\, Urbandale Schools.&nbsp\;<br />\n<br />\nA special thank you to Jon Smith with Iowa Realty for sponsoring the Talk with Officials Series in 2021.&nbsp\;&nbsp\;
LOCATION:RODAN Board Room at the Urbandale Chamber of Commerce office - limited in person 2830 100th St.\, Ste. 110\, Urbandale and available virtually
UID:e.1185.11165
SEQUENCE:3
DTSTAMP:20260424T095922Z
URL:http://getaquote-mobile.uniquelyurbandale.com/events/details/march-talk-with-officials-presented-by-jon-smith-iowa-realty-11165
END:VEVENT

END:VCALENDAR
