BEGIN:VCALENDAR
VERSION:2.0
PRODID:-//ChamberMaster//Event Calendar 2.0//EN
METHOD:PUBLISH
X-PUBLISHED-TTL:P3D
REFRESH-INTERVAL:P3D
CALSCALE:GREGORIAN
BEGIN:VEVENT
DTSTART:20160317T170000Z
DTEND:20160317T230000Z
X-MICROSOFT-CDO-ALLDAYEVENT:FALSE
SUMMARY:March Madness Watch Party
DESCRIPTION:Put on your favorite team colors and join us for wings\, brews and brackets. Enjoy watching the drama unfold on our giant video screen while filling out brackets and enjoying Jethro?s wings and Iowa beers. Please RSVP to 1-888-820-7687 by March 14th.
X-ALT-DESC;FMTTYPE=text/html:Put on your favorite team colors and join us for wings\, brews and brackets. Enjoy watching the drama unfold on our giant video screen while filling out brackets and enjoying Jethro?s wings and Iowa beers. Please RSVP to 1-888-820-7687 by March 14th.
LOCATION:The Village at Legacy Pointe 1650 SE Holiday Crest Circle
UID:e.1185.4740
SEQUENCE:3
DTSTAMP:20260420T153418Z
URL:http://getaquote-mobile.uniquelyurbandale.com/events/details/march-madness-watch-party-03-17-2016-4740
END:VEVENT

END:VCALENDAR
