BEGIN:VCALENDAR
VERSION:2.0
PRODID:-//ChamberMaster//Event Calendar 2.0//EN
METHOD:PUBLISH
X-PUBLISHED-TTL:P3D
REFRESH-INTERVAL:P3D
CALSCALE:GREGORIAN
BEGIN:VEVENT
DTSTART:20170227T150000Z
DTEND:20170401T210000Z
X-MICROSOFT-CDO-ALLDAYEVENT:FALSE
SUMMARY:March Madness at La' James International College
DESCRIPTION:We have kicked off our LJIC March Madness Tour! From now until April 1st book your campus tour & learn about La' James International College\, take a backstage tour of the school AND receive a FREE service that day! PLUS take advantage of the reduced enrollment fee if you start by May 3rd! Every day is different\, what day will you choose! \n\n \n\nDon't wait  Call 888.880.2108 & Press 1 for Admissions to book your tour & service today! For more information visit: https://ljic.edu/march-madness/\n\n \n\n*Must complete an Enrollment Application at LJIC campus to qualify for the reduced enrollment fee. If your start date moves beyond May 3rd\, 2017\, the regular enrollment fee will be due.\n\n*Complimentary services are based on availability at location and must take place on the same day as your campus tour.\n\n*Services and tours need to be booked through an Admissions Representative.\n\n(All services are performed by students under instructor supervision.)
X-ALT-DESC;FMTTYPE=text/html:<span style="font-size:14px"><span style="color:#1A1A1A"><span style="font-family:times">We have kicked off our LJIC March Madness Tour! From now until April 1<sup>st</sup> book your campus tour &amp\; learn about La&#39\; James International College\, take a backstage tour of the school AND receive a FREE service that day! PLUS take advantage of the reduced enrollment fee if you start by May 3<sup>rd</sup>! Every day is different\, what day will you choose! </span></span><br />\n&nbsp\;<br />\n<span style="color:#1A1A1A"><span style="font-family:times">Don&rsquo\;t wait&hellip\;<span style="font-family:times new roman"> </span></span></span><span style="font-family:times new roman">Call 888.880.2108 &amp\; Press 1 for Admissions to book your tour &amp\; service today!</span> <span style="color:#1A1A1A"><span style="font-family:times">For more information visit: </span></span><a href="https://ljic.edu/march-madness/">https://ljic.edu/march-madness/</a><br />\n&nbsp\;<br />\n<span style="font-size:12px"><em><span style="color:#1A1A1A"><span style="font-family:times">*Must complete an Enrollment Application at LJIC campus to qualify for the reduced enrollment fee. If your start date moves beyond May 3<sup>rd</sup>\, 2017\, the regular enrollment fee will be due.</span></span><br />\n<span style="color:#1A1A1A"><span style="font-family:times">*Complimentary services are based on availability at location and must take place on the same day as your campus tour.</span></span><br />\n<span style="color:#1A1A1A"><span style="font-family:times">*Services and tours need to be booked through an Admissions Representative.</span></span><br />\n<span style="color:#1A1A1A"><span style="font-family:times">(All services are performed by students under instructor supervision.)</span></span></em></span></span>
LOCATION:La' James International College 8805 Chambery Blvd. Johnston\, IA 50131
UID:e.1185.5147
SEQUENCE:3
DTSTAMP:20260421T094918Z
URL:http://getaquote-mobile.uniquelyurbandale.com/events/details/march-madness-at-la-james-international-college-5147
END:VEVENT

END:VCALENDAR
