BEGIN:VCALENDAR
VERSION:2.0
PRODID:-//ChamberMaster//Event Calendar 2.0//EN
METHOD:PUBLISH
X-PUBLISHED-TTL:P3D
REFRESH-INTERVAL:P3D
CALSCALE:GREGORIAN
BEGIN:VEVENT
DTSTART:20170325T150000Z
DTEND:20170325T190000Z
X-MICROSOFT-CDO-ALLDAYEVENT:FALSE
SUMMARY:March Madness 5V5 Basketball Tournament
DESCRIPTION:Riverbend Sport and Social Club will be hosting a Charity March Madness 5V5 Basketball Tournament at Valley Community Center on Saturday\, March 25th from 10AM-2PM. It costs $20.00 per person to play and you can sign up as an individual or as a team on our website at www.riverbendssc.com. We will be playing 20 minute games\, there will be prizes for the winners and competitions for prizes in between games as well!!!! All proceeds go back to Valley Community Center. Come out and support a great cause this Saturday!!!!! The event is open to Male and Female Basketball Players.
X-ALT-DESC;FMTTYPE=text/html:Riverbend Sport and Social Club will be hosting a Charity March Madness 5V5 Basketball Tournament at Valley Community Center on Saturday\, March 25th from 10AM-2PM. It costs $20.00 per person to play and you can sign up as an individual or as a team on our website at www.riverbendssc.com. We will be playing 20 minute games\, there will be prizes for the winners and competitions for prizes in between games as well!!!! All proceeds go back to Valley Community Center. Come out and support a great cause this Saturday!!!!! The event is open to Male and Female Basketball Players.
LOCATION:Valley Community Center
UID:e.1185.5166
SEQUENCE:3
DTSTAMP:20260421T092347Z
URL:http://getaquote-mobile.uniquelyurbandale.com/events/details/march-madness-5v5-basketball-tournament-5166
END:VEVENT

END:VCALENDAR
