BEGIN:VCALENDAR
VERSION:2.0
PRODID:-//ChamberMaster//Event Calendar 2.0//EN
METHOD:PUBLISH
X-PUBLISHED-TTL:P3D
REFRESH-INTERVAL:P3D
CALSCALE:GREGORIAN
BEGIN:VEVENT
DTSTART:20170311T174500Z
DTEND:20170311T221500Z
X-MICROSOFT-CDO-ALLDAYEVENT:FALSE
SUMMARY:March 11\, 2017 Iowa Barbecue Tour
DESCRIPTION:We hope you can join us for the March 11\, 2017 inaugural Iowa Barbecue Tour! I've rented a party bus to drive us around Des Moines to sample some of it's finest barbecue. Won't you join us? Arrive at Cactus Bob's BBQ Corral in Johnston at 11:45am to check in. Barbecue will be served buffet-style at noon. Your ticket includes: Pick up (12:30pm) and drop off (4:15pm) at Cactus Bob's BBQ Corral (5955 Merle Hay Road\, Johnston). Stops at Woody's Smoke Shack\, Guru BBQ and Big Al's BBQ and Catering to enjoy pork\, chicken\, ribs\, brisket etc.\, and a variety of sides. We'll wrap up the afternoon at Cactus Bob's BBQ Corral. Coolers with ice on the bus to store BYO Beverages   NO GLASS BOTTLES ALLOWED. Since we will have alcohol on the bus\, all passengers must be 21 or older. If you have any questions\, please contact me\, Suzanne Hull\, at 515-250-6366 or suzanne@contemporary-business-solutions.com
X-ALT-DESC;FMTTYPE=text/html:We hope you can join us for the March 11\, 2017 inaugural Iowa Barbecue Tour! I&#39\;ve rented a party bus to drive us around Des Moines to sample some of it&#39\;s finest barbecue. Won&#39\;t you join us? Arrive at Cactus Bob&#39\;s BBQ Corral in Johnston at 11:45am to check in. Barbecue will be served buffet-style at noon. Your ticket includes: Pick up (12:30pm) and drop off (4:15pm) at Cactus Bob&#39\;s BBQ Corral (5955 Merle Hay Road\, Johnston). Stops at Woody&#39\;s Smoke Shack\, Guru BBQ and Big Al&#39\;s BBQ and Catering to enjoy pork\, chicken\, ribs\, brisket etc.\, and a variety of sides. We&#39\;ll wrap up the afternoon at Cactus Bob&#39\;s BBQ Corral. Coolers with ice on the bus to store BYO Beverages &ndash\; NO GLASS BOTTLES ALLOWED. Since we will have alcohol on the bus\, all passengers must be 21 or older. If you have any questions\, please contact me\, Suzanne Hull\, at 515-250-6366 or suzanne@contemporary-business-solutions.com
LOCATION:Cactus Bob's BBQ Corral
UID:e.1185.5133
SEQUENCE:3
DTSTAMP:20260421T092202Z
URL:http://getaquote-mobile.uniquelyurbandale.com/events/details/march-11-2017-iowa-barbecue-tour-5133
END:VEVENT

END:VCALENDAR
