BEGIN:VCALENDAR
VERSION:2.0
PRODID:-//ChamberMaster//Event Calendar 2.0//EN
METHOD:PUBLISH
X-PUBLISHED-TTL:P3D
REFRESH-INTERVAL:P3D
CALSCALE:GREGORIAN
BEGIN:VEVENT
DTSTART:20161011T220000Z
DTEND:20161012T010000Z
X-MICROSOFT-CDO-ALLDAYEVENT:FALSE
SUMMARY:Mangia! UCAN Spaghetti Dinner
DESCRIPTION:Join us for a taste of Italy in Urbandale at UCAN's Annual Spaghetti Dinner! Enjoy great food   spaghetti\, yummy breadsticks from Northern Lights\, salad and desserts\, entertainment and company and support a great cause! Just $7 per person or $20 for the whole family\, or purchase the Primo Package with wine or beer and a fancy take home glass! Funds will help provide winter clothing for Urbandale kids in need!
X-ALT-DESC;FMTTYPE=text/html:Join us for a taste of Italy in Urbandale at UCAN&rsquo\;s Annual Spaghetti Dinner! Enjoy great food &ndash\; spaghetti\, yummy breadsticks from Northern Lights\, salad and desserts\, entertainment and company and support a great cause! Just $7 per person or $20 for the whole family\, or purchase the Primo Package with wine or beer and a fancy take home glass! Funds will help provide winter clothing for Urbandale kids in need!
LOCATION:American Legion Hall 6805 Douglas Ave.\, Urbandale
UID:e.1185.4885
SEQUENCE:3
DTSTAMP:20260421T021433Z
URL:http://getaquote-mobile.uniquelyurbandale.com/events/details/mangia-ucan-spaghetti-dinner-10-11-2016-4885
END:VEVENT

END:VCALENDAR
