BEGIN:VCALENDAR
VERSION:2.0
PRODID:-//ChamberMaster//Event Calendar 2.0//EN
METHOD:PUBLISH
X-PUBLISHED-TTL:P3D
REFRESH-INTERVAL:P3D
CALSCALE:GREGORIAN
BEGIN:VEVENT
DTSTART:20200206T150000Z
DTEND:20200206T220000Z
X-MICROSOFT-CDO-ALLDAYEVENT:FALSE
SUMMARY:Manager Boot Camp
DESCRIPTION:You have been given the opportunity to manage others because you do your job well. Unfortunately\, what got you your promotion   your technical skills   may not sustain you. Being a manager can require a whole new set of skills.\n\nThis course builds on the current skills you have and provides a survival kit of essential management skills. The full-day training session provides practical "real life" examples\, scenarios and techniques to enable you to navigate your new manager landmines.\n\nDuring Boot Camp you will learn how to:\n\n\n	Adapt your personal management style to be more effective.\n	Set expectations your team can act on\n	Train for performance\n	Coach to reinforce good performance and redirect poor performance\n	Review individual performance\n	Delegate successfully\n	Manage your time\n	Motivate your team\n\n\nREGISTER HERE
X-ALT-DESC;FMTTYPE=text/html:<p style="margin: 0px 0px 20px\; padding: 0px\; font-family: Raleway\, Helvetica\, Arial\, sans-serif\; line-height: 1.6em\; font-size: 14px\; color: rgb(0\, 0\, 0)\;">You have been given the opportunity to manage others because you do your job well. Unfortunately\, what got you your promotion &ndash\; your technical skills &ndash\; may not sustain you. Being a manager can require a whole new set of skills.</p>\n\n<p style="margin: 0px 0px 20px\; padding: 0px\; font-family: Raleway\, Helvetica\, Arial\, sans-serif\; line-height: 1.6em\; font-size: 14px\; color: rgb(0\, 0\, 0)\;">This course builds on the current skills you have and provides a survival kit of essential management skills. The full-day training session provides practical &quot\;real life&quot\; examples\, scenarios and techniques to enable you to navigate your new manager landmines.</p>\n\n<p style="margin: 0px 0px 20px\; padding: 0px\; font-family: Raleway\, Helvetica\, Arial\, sans-serif\; line-height: 1.6em\; font-size: 14px\; color: rgb(0\, 0\, 0)\;">During Boot Camp you will learn how to:</p>\n\n<ul style="margin: 10px 0px 20px 25px\; padding-right: 0px\; padding-left: 0px\; list-style-position: initial\; list-style-image: initial\; color: rgb(0\, 0\, 0)\; font-family: Raleway\, Helvetica\, Arial\, sans-serif\; font-size: medium\;">\n	<li style="margin: 0px 0px 5px\; padding: 0px\; line-height: 1.6em\; font-size: 14px\;">Adapt your personal management style to be more effective.</li>\n	<li style="margin: 0px 0px 5px\; padding: 0px\; line-height: 1.6em\; font-size: 14px\;">Set expectations your team can act on</li>\n	<li style="margin: 0px 0px 5px\; padding: 0px\; line-height: 1.6em\; font-size: 14px\;">Train for performance</li>\n	<li style="margin: 0px 0px 5px\; padding: 0px\; line-height: 1.6em\; font-size: 14px\;">Coach to reinforce good performance and redirect poor performance</li>\n	<li style="margin: 0px 0px 5px\; padding: 0px\; line-height: 1.6em\; font-size: 14px\;">Review individual performance</li>\n	<li style="margin: 0px 0px 5px\; padding: 0px\; line-height: 1.6em\; font-size: 14px\;">Delegate successfully</li>\n	<li style="margin: 0px 0px 5px\; padding: 0px\; line-height: 1.6em\; font-size: 14px\;">Manage your time</li>\n	<li style="margin: 0px 0px 5px\; padding: 0px\; line-height: 1.6em\; font-size: 14px\;">Motivate your team</li>\n</ul>\n\n<div style="margin: 0px 0px 5px\; padding: 0px\; line-height: 1.6em\; font-size: 14px\;"><strong><a href="https://atwtraining.com/registration/?s=200">REGISTER HERE</a></strong></div>\n
LOCATION:ATW Training Solutions Inc. 4414 114th Street Urbandale\, IA 50322 (across from the water tower)
UID:e.1185.10448
SEQUENCE:3
DTSTAMP:20260423T160610Z
URL:http://getaquote-mobile.uniquelyurbandale.com/events/details/manager-boot-camp-10448
END:VEVENT

END:VCALENDAR
