BEGIN:VCALENDAR
VERSION:2.0
PRODID:-//ChamberMaster//Event Calendar 2.0//EN
METHOD:PUBLISH
X-PUBLISHED-TTL:P3D
REFRESH-INTERVAL:P3D
CALSCALE:GREGORIAN
BEGIN:VEVENT
DTSTART:20201121T223000Z
DTEND:20201122T020000Z
X-MICROSOFT-CDO-ALLDAYEVENT:FALSE
SUMMARY:Make-A-Wish Iowa: Tour De Lights
DESCRIPTION:Jingle all the way over to Adventureland Park for Make-A-Wish Iowa's annual Tour De Lights family fun ride! Run\, walk\, or bike through Jolly Holiday Lights while raising money to grant Iowa wishes! To register\, visit site.wish.org/tourdelights
X-ALT-DESC;FMTTYPE=text/html:Jingle all the way over to Adventureland Park for Make-A-Wish Iowa&rsquo\;s annual Tour De Lights family fun ride! Run\, walk\, or bike through Jolly Holiday Lights while raising money to grant Iowa wishes! To register\, visit <a href="http://site.wish.org/tourdelights">site.wish.org/tourdelights</a>
LOCATION:Adventureland Park
UID:e.1185.10940
SEQUENCE:3
DTSTAMP:20260424T054941Z
URL:http://getaquote-mobile.uniquelyurbandale.com/events/details/make-a-wish-iowa-tour-de-lights-10940
END:VEVENT

END:VCALENDAR
