BEGIN:VCALENDAR
VERSION:2.0
PRODID:-//ChamberMaster//Event Calendar 2.0//EN
METHOD:PUBLISH
X-PUBLISHED-TTL:P3D
REFRESH-INTERVAL:P3D
CALSCALE:GREGORIAN
BEGIN:VEVENT
DTSTART:20160809T223000Z
DTEND:20160810T003000Z
X-MICROSOFT-CDO-ALLDAYEVENT:FALSE
SUMMARY:Live Music w/Jason Walsmith of The Nadas
DESCRIPTION:Join us for some live music on our patio with Jason Walsmith!! Jason is best-known as the co-frontman of The Nadas. Don't miss out on this live solo acoustic show! Doors open at 5pm\, music starts at 5:30pm. We will have food/drinks available for purchase\, bring your pop-up chair and enjoy some live music at Renovo!
X-ALT-DESC;FMTTYPE=text/html:Join us for some live music on our patio with Jason Walsmith!! Jason is best-known as the co-frontman of The Nadas. Don&#39\;t miss out on this live solo acoustic show! Doors open at 5pm\, music starts at 5:30pm. We will have food/drinks available for purchase\, bring your pop-up chair and enjoy some live music at Renovo!
LOCATION:Hotel Renovo 11167 Hickman Rd-Urbandale
UID:e.1185.4874
SEQUENCE:3
DTSTAMP:20260420T230318Z
URL:http://getaquote-mobile.uniquelyurbandale.com/events/details/live-music-w-jason-walsmith-of-the-nadas-08-09-2016-4874
END:VEVENT

END:VCALENDAR
