BEGIN:VCALENDAR
VERSION:2.0
PRODID:-//ChamberMaster//Event Calendar 2.0//EN
METHOD:PUBLISH
X-PUBLISHED-TTL:P3D
REFRESH-INTERVAL:P3D
CALSCALE:GREGORIAN
BEGIN:VEVENT
DTSTART:20190620T110000Z
DTEND:20190621T000000Z
X-MICROSOFT-CDO-ALLDAYEVENT:FALSE
SUMMARY:LifeServe Blood Center's Blood Donor Day
DESCRIPTION:Blood Donor Day is LifeServe's largest blood drive of the year\; bringing out more than 600 blood donors which impact more than 1\,500 lives! This year's Blood Donor Day is scheduled for Thursday\, June 20 from 6 a.m.   2 p.m. at the Iowa State Fairgrounds Elwell Building and 11   7 p.m. at Valley West Mall. We partner with UnityPoint Des Moines and WHO TV for this annual event.
X-ALT-DESC;FMTTYPE=text/html:<span style="font-size:14pt"><span style="font-family:calibri">Blood Donor Day is LifeServe&#39\;s largest blood drive of the year\; bringing out more than 600 blood donors which impact more than 1\,500 lives! This year&rsquo\;s Blood Donor Day is scheduled for Thursday\, June 20 from 6 a.m. &ndash\; 2 p.m. at the Iowa State Fairgrounds Elwell Building and 11 &ndash\; 7 p.m. at Valley West Mall. We partner with UnityPoint Des Moines and WHO TV for this annual event.</span></span><br />\n&nbsp\;
LOCATION:Iowa State Fair Grounds Elwell Building: 6 a.m. - 2 p.m. Valley West Mall: 11 a.m. - 7 p.m.
UID:e.1185.9988
SEQUENCE:3
DTSTAMP:20260423T025703Z
URL:http://getaquote-mobile.uniquelyurbandale.com/events/details/lifeserve-blood-center-s-blood-donor-day-9988
END:VEVENT

END:VCALENDAR
