BEGIN:VCALENDAR
VERSION:2.0
PRODID:-//ChamberMaster//Event Calendar 2.0//EN
METHOD:PUBLISH
X-PUBLISHED-TTL:P3D
REFRESH-INTERVAL:P3D
CALSCALE:GREGORIAN
BEGIN:VEVENT
DTSTART:20190701T113000Z
DTEND:20190703T220000Z
X-MICROSOFT-CDO-ALLDAYEVENT:FALSE
SUMMARY:LifeServe Battle of the Badges
DESCRIPTION:LifeServe's Battle of the Badges is a friendly blood donation competition between fire\, law enforcement and EMS.
X-ALT-DESC;FMTTYPE=text/html:LifeServe&#39\;s Battle of the Badges is a friendly blood donation competition between fire\, law enforcement and EMS.
LOCATION:All LifeServe Blood Center locations
UID:e.1185.9998
SEQUENCE:3
DTSTAMP:20260423T043006Z
URL:http://getaquote-mobile.uniquelyurbandale.com/events/details/lifeserve-battle-of-the-badges-9998
END:VEVENT

END:VCALENDAR
