BEGIN:VCALENDAR
VERSION:2.0
PRODID:-//ChamberMaster//Event Calendar 2.0//EN
METHOD:PUBLISH
X-PUBLISHED-TTL:P3D
REFRESH-INTERVAL:P3D
CALSCALE:GREGORIAN
BEGIN:VEVENT
DTSTART;VALUE=DATE:20200701
DTEND;VALUE=DATE:20200704
TRANSP:TRANSPARENT
X-MICROSOFT-CDO-ALLDAYEVENT:TRUE
SUMMARY:LifeServe Battle of the Badges
DESCRIPTION:Three days. Three different heroes. One goal: to win the battle of the badges! Join LifeServe Blood Center at your local donor center July 1-3 for the second annual Battle of the Badges! Give blood to support your favorite first responder group: law enforcement\, fire\, or EMS. Winner gets bragging rights! Will law enforcement\, our 2019 champion\, hold onto their crown? That's up to you! Book your lifesaving appointment on our website! Donors will get a voucher for a free shirt. To help ensure the safety of our team members and other blood donors during this COVID-19 pandemic\, we are enforcing the following precautionary measures: Appointments are required. Donors who do not have appointments will not be able to give blood. We are asking that blood donors pre-screen themselves for fever prior to appointments. Only donors with temperatures under 99.5 will be allowed to donate. Blood donors are required to wear a mask for the duration of their appointment. If you do not have a mask\, we will provide you one. View a full list of precautions we're taking during the COVID-19 pandemic on our website.
X-ALT-DESC;FMTTYPE=text/html:Three days. Three different heroes. One goal: to win the battle of the badges! Join LifeServe Blood Center at your local donor center July 1-3 for the second annual Battle of the Badges! Give blood to support your favorite first responder group: law enforcement\, fire\, or EMS. Winner gets bragging rights! Will law enforcement\, our 2019 champion\, hold onto their crown? That&rsquo\;s up to you! Book your lifesaving appointment on our website! Donors will get a voucher for a free shirt. To help ensure the safety of our team members and other blood donors during this COVID-19 pandemic\, we are enforcing the following precautionary measures: Appointments are required. Donors who do not have appointments will not be able to give blood. We are asking that blood donors pre-screen themselves for fever prior to appointments. Only donors with temperatures under 99.5 will be allowed to donate. Blood donors are required to wear a mask for the duration of their appointment. If you do not have a mask\, we will provide you one. View a full list of precautions we&rsquo\;re taking during the COVID-19 pandemic on our website.
LOCATION:All LifeServe Donor Centers
UID:e.1185.10932
SEQUENCE:3
DTSTAMP:20260423T225010Z
URL:http://getaquote-mobile.uniquelyurbandale.com/events/details/lifeserve-battle-of-the-badges-07-01-2020-10932
END:VEVENT

END:VCALENDAR
